BEGIN:VCALENDAR
VERSION:2.0
PRODID:-//ottfingen.de - ECPv6.15.20//NONSGML v1.0//EN
CALSCALE:GREGORIAN
METHOD:PUBLISH
X-ORIGINAL-URL:https://ottfingen.de
X-WR-CALDESC:Veranstaltungen für ottfingen.de
REFRESH-INTERVAL;VALUE=DURATION:PT1H
X-Robots-Tag:noindex
X-PUBLISHED-TTL:PT1H
BEGIN:VTIMEZONE
TZID:UTC
BEGIN:STANDARD
TZOFFSETFROM:+0000
TZOFFSETTO:+0000
TZNAME:UTC
DTSTART:20250101T000000
END:STANDARD
END:VTIMEZONE
BEGIN:VEVENT
DTSTART;TZID=UTC:20261013T140000
DTEND;TZID=UTC:20261013T230000
DTSTAMP:20260422T065213
CREATED:20260106T162347Z
LAST-MODIFIED:20260106T162348Z
UID:2251-1791900000-1791932400@ottfingen.de
SUMMARY:Tambourcorps Großer Zapfenstreich am Landtag in Düsseldorf
DESCRIPTION:
URL:https://ottfingen.de/event/tambourcorps-grosser-zapfenstreich-am-landtag-in-duesseldorf/
CATEGORIES:Gastauftritte
ORGANIZER;CN="Tambourcorps Ottfingen":MAILTO:ansgar.eichert@tambourcorps-ottfingen.de
END:VEVENT
BEGIN:VEVENT
DTSTART;TZID=UTC:20261017T080000
DTEND;TZID=UTC:20261019T210000
DTSTAMP:20260422T065213
CREATED:20260106T162608Z
LAST-MODIFIED:20260106T162609Z
UID:2253-1792224000-1792443600@ottfingen.de
SUMMARY:Tambourcorps Vereinsausflug Heidelberg / Mannheim
DESCRIPTION:
URL:https://ottfingen.de/event/tambourcorps-vereinsausflug-heidelberg-mannheim/
CATEGORIES:Gastauftritte
ORGANIZER;CN="Tambourcorps Ottfingen":MAILTO:ansgar.eichert@tambourcorps-ottfingen.de
END:VEVENT
BEGIN:VEVENT
DTSTART;TZID=UTC:20261028T190000
DTEND;TZID=UTC:20261028T210000
DTSTAMP:20260422T065213
CREATED:20260309T090657Z
LAST-MODIFIED:20260309T090658Z
UID:2342-1793214000-1793221200@ottfingen.de
SUMMARY:Caritas Konferenz
DESCRIPTION:
URL:https://ottfingen.de/event/caritas-konferenz-10/
LOCATION:Pfarrheim Ottfingen\, Hubertusstraße 66\, Wenden - Ottfingen\, 57482
END:VEVENT
END:VCALENDAR