BEGIN:VCALENDAR
VERSION:2.0
PRODID:-//ottfingen.de - ECPv6.15.20//NONSGML v1.0//EN
CALSCALE:GREGORIAN
METHOD:PUBLISH
X-WR-CALNAME:ottfingen.de
X-ORIGINAL-URL:https://ottfingen.de
X-WR-CALDESC:Veranstaltungen für ottfingen.de
REFRESH-INTERVAL;VALUE=DURATION:PT1H
X-Robots-Tag:noindex
X-PUBLISHED-TTL:PT1H
BEGIN:VTIMEZONE
TZID:UTC
BEGIN:STANDARD
TZOFFSETFROM:+0000
TZOFFSETTO:+0000
TZNAME:UTC
DTSTART:20250101T000000
END:STANDARD
END:VTIMEZONE
BEGIN:VEVENT
DTSTART;TZID=UTC:20260904T180000
DTEND;TZID=UTC:20260904T230000
DTSTAMP:20260422T051921
CREATED:20260112T073130Z
LAST-MODIFIED:20260112T073131Z
UID:2281-1788544800-1788562800@ottfingen.de
SUMMARY:Schützenbruderschaft - Schützenjause Grillevent 2
DESCRIPTION:
URL:https://ottfingen.de/event/schuetzenbruderschaft-schuetzenjause-grillevent-2/
LOCATION:Schützenhaus Ottfingen\, Wilhelm-Tell Str. 24\, Wenden - Ottfingen\, 57482
CATEGORIES:In Ottfingen
ORGANIZER;CN="Sch%C3%BCtzenbruderschaft Ottfingen 1919 e.V.":MAILTO:vorstand@schuetzenbruderschaft-ottfingen.de
END:VEVENT
BEGIN:VEVENT
DTSTART;TZID=UTC:20260905T160000
DTEND;TZID=UTC:20260905T230000
DTSTAMP:20260422T051921
CREATED:20251102T160835Z
LAST-MODIFIED:20251102T160836Z
UID:2154-1788624000-1788649200@ottfingen.de
SUMMARY:Musikverein Treue Ottfingen Jubiläum Musikverein Gerlingen
DESCRIPTION:
URL:https://ottfingen.de/event/musikverein-treue-ottfingen-jubilaeum-musikverein-gerlingen/
LOCATION:Gerlingen
CATEGORIES:Gastauftritte
END:VEVENT
BEGIN:VEVENT
DTSTART;TZID=UTC:20260910T190000
DTEND;TZID=UTC:20260910T213000
DTSTAMP:20260422T051921
CREATED:20260204T153819Z
LAST-MODIFIED:20260204T153820Z
UID:2332-1789066800-1789075800@ottfingen.de
SUMMARY:Caritas Konferenz
DESCRIPTION:
URL:https://ottfingen.de/event/caritas-konferenz-9/
LOCATION:Pfarrheim Ottfingen\, Hubertusstraße 66\, Wenden - Ottfingen\, 57482
CATEGORIES:In Ottfingen
END:VEVENT
BEGIN:VEVENT
DTSTART;TZID=UTC:20260911T180000
DTEND;TZID=UTC:20260911T230000
DTSTAMP:20260422T051921
CREATED:20260112T073228Z
LAST-MODIFIED:20260112T073229Z
UID:2283-1789149600-1789167600@ottfingen.de
SUMMARY:Schützenbruderschaft - Schützenjause Grillevent 3
DESCRIPTION:
URL:https://ottfingen.de/event/schuetzenbruderschaft-schuetzenjause-grillevent-3/
LOCATION:Schützenhaus Ottfingen\, Wilhelm-Tell Str. 24\, Wenden - Ottfingen\, 57482
CATEGORIES:In Ottfingen
ORGANIZER;CN="Sch%C3%BCtzenbruderschaft Ottfingen 1919 e.V.":MAILTO:vorstand@schuetzenbruderschaft-ottfingen.de
END:VEVENT
BEGIN:VEVENT
DTSTART;TZID=UTC:20260912T100000
DTEND;TZID=UTC:20260912T170000
DTSTAMP:20260422T051921
CREATED:20251102T161001Z
LAST-MODIFIED:20251102T161003Z
UID:2160-1789207200-1789232400@ottfingen.de
SUMMARY:Musikverein Treue Ottfingen Jubiläum Musikverein Saßmicke
DESCRIPTION:
URL:https://ottfingen.de/event/musikverein-treue-ottfingen-jubilaeum-musikverein-sassmicke/
LOCATION:Saßmicke
CATEGORIES:Gastauftritte
END:VEVENT
BEGIN:VEVENT
DTSTART;TZID=UTC:20260912T130000
DTEND;TZID=UTC:20260912T183000
DTSTAMP:20260422T051921
CREATED:20260119T172042Z
LAST-MODIFIED:20260119T172111Z
UID:2310-1789218000-1789237800@ottfingen.de
SUMMARY:Gemeindepokal Alt-Herren
DESCRIPTION:
URL:https://ottfingen.de/event/gemeindepokal-alt-herren/
LOCATION:Klinkerbau-Erdmann-Arena Am Siepen\, Ottfingen
CATEGORIES:In Ottfingen
END:VEVENT
BEGIN:VEVENT
DTSTART;TZID=UTC:20260912T190000
DTEND;TZID=UTC:20260912T235900
DTSTAMP:20260422T051921
CREATED:20260119T172259Z
LAST-MODIFIED:20260119T172301Z
UID:2315-1789239600-1789257540@ottfingen.de
SUMMARY:Weinfest Am Siepen SVO
DESCRIPTION:
URL:https://ottfingen.de/event/weinfest-am-siepen-svo/
LOCATION:Klinkerbau-Erdmann-Arena Am Siepen\, Ottfingen
CATEGORIES:In Ottfingen
END:VEVENT
BEGIN:VEVENT
DTSTART;TZID=UTC:20260913T084500
DTEND;TZID=UTC:20260913T130000
DTSTAMP:20260422T051921
CREATED:20260112T073351Z
LAST-MODIFIED:20260112T073352Z
UID:2285-1789289100-1789304400@ottfingen.de
SUMMARY:Prozession zur Dörnschlade
DESCRIPTION:Ab Marienbrücke
URL:https://ottfingen.de/event/prozession-zur-doernschlade-5/
LOCATION:Dörnschlade
ORGANIZER;CN="Sch%C3%BCtzenbruderschaft Ottfingen 1919 e.V.":MAILTO:vorstand@schuetzenbruderschaft-ottfingen.de
END:VEVENT
BEGIN:VEVENT
DTSTART;TZID=UTC:20260918T180000
DTEND;TZID=UTC:20260918T230000
DTSTAMP:20260422T051921
CREATED:20260112T073501Z
LAST-MODIFIED:20260112T073502Z
UID:2287-1789754400-1789772400@ottfingen.de
SUMMARY:Schützenbruderschaft - Schützenjause Grillevent 4
DESCRIPTION:
URL:https://ottfingen.de/event/schuetzenbruderschaft-schuetzenjause-grillevent-4/
LOCATION:Schützenhaus Ottfingen\, Wilhelm-Tell Str. 24\, Wenden - Ottfingen\, 57482
CATEGORIES:In Ottfingen
ORGANIZER;CN="Sch%C3%BCtzenbruderschaft Ottfingen 1919 e.V.":MAILTO:vorstand@schuetzenbruderschaft-ottfingen.de
END:VEVENT
BEGIN:VEVENT
DTSTART;TZID=UTC:20260927T080000
DTEND;TZID=UTC:20260927T170000
DTSTAMP:20260422T051921
CREATED:20260112T073637Z
LAST-MODIFIED:20260112T073639Z
UID:2289-1790496000-1790528400@ottfingen.de
SUMMARY:Schützenbruderschaft - Kreisschützenfest Elspe
DESCRIPTION:
URL:https://ottfingen.de/event/schuetzenbruderschaft-kreisschuetzenfest-elspe/
CATEGORIES:Gastauftritte
ORGANIZER;CN="Sch%C3%BCtzenbruderschaft Ottfingen 1919 e.V.":MAILTO:vorstand@schuetzenbruderschaft-ottfingen.de
END:VEVENT
BEGIN:VEVENT
DTSTART;TZID=UTC:20260927T120000
DTEND;TZID=UTC:20260927T170000
DTSTAMP:20260422T051921
CREATED:20251118T070451Z
LAST-MODIFIED:20251118T070605Z
UID:2196-1790510400-1790528400@ottfingen.de
SUMMARY:Musikverein Treue Kreisschützenfest Olpe mit Schützenverein Schönau
DESCRIPTION:
URL:https://ottfingen.de/event/musikverein-treue-kreisschuetzenfest-olpe-mit-schuetzenverein-schoenau/
LOCATION:Ümmerich\, Olpe
CATEGORIES:Gastauftritte
END:VEVENT
BEGIN:VEVENT
DTSTART;TZID=UTC:20260927T133000
DTEND;TZID=UTC:20260927T170000
DTSTAMP:20260422T051921
CREATED:20260106T162214Z
LAST-MODIFIED:20260106T162215Z
UID:2249-1790515800-1790528400@ottfingen.de
SUMMARY:Tambourcorps Erntedankzug Friesenhagen
DESCRIPTION:
URL:https://ottfingen.de/event/tambourcorps-erntedankzug-friesenhagen/
CATEGORIES:Gastauftritte
ORGANIZER;CN="Tambourcorps Ottfingen":MAILTO:ansgar.eichert@tambourcorps-ottfingen.de
END:VEVENT
END:VCALENDAR