BEGIN:VCALENDAR
VERSION:2.0
PRODID:-//ottfingen.de - ECPv6.15.20//NONSGML v1.0//EN
CALSCALE:GREGORIAN
METHOD:PUBLISH
X-WR-CALNAME:ottfingen.de
X-ORIGINAL-URL:https://ottfingen.de
X-WR-CALDESC:Veranstaltungen für ottfingen.de
REFRESH-INTERVAL;VALUE=DURATION:PT1H
X-Robots-Tag:noindex
X-PUBLISHED-TTL:PT1H
BEGIN:VTIMEZONE
TZID:UTC
BEGIN:STANDARD
TZOFFSETFROM:+0000
TZOFFSETTO:+0000
TZNAME:UTC
DTSTART:20220101T000000
END:STANDARD
END:VTIMEZONE
BEGIN:VEVENT
DTSTART;TZID=UTC:20230701T100000
DTEND;TZID=UTC:20230701T220000
DTSTAMP:20260421T083740
CREATED:20221227T071324Z
LAST-MODIFIED:20221227T071325Z
UID:1006-1688205600-1688248800@ottfingen.de
SUMMARY:Jubiläumsfeier 50 Jahre 2. Mannschaft SVO
DESCRIPTION:
URL:https://ottfingen.de/event/jubilaeumsfeier-50-jahre-2-mannschaft-svo/
END:VEVENT
BEGIN:VEVENT
DTSTART;TZID=UTC:20230702T084500
DTEND;TZID=UTC:20230702T120000
DTSTAMP:20260421T083740
CREATED:20221222T090001Z
LAST-MODIFIED:20221222T090004Z
UID:956-1688287500-1688299200@ottfingen.de
SUMMARY:Prozession zur Dörnschlade ?
DESCRIPTION:Der Musikverein Treue begleitet die Prozession musikalisch
URL:https://ottfingen.de/event/prozession-zur-doernschlade-3/
END:VEVENT
BEGIN:VEVENT
DTSTART;TZID=UTC:20230709T000000
DTEND;TZID=UTC:20230709T235959
DTSTAMP:20260421T083740
CREATED:20221228T075726Z
LAST-MODIFIED:20221228T075728Z
UID:1040-1688860800-1688947199@ottfingen.de
SUMMARY:Schützenfest Gerlingen
DESCRIPTION:Schützenbruderschaft besucht die Gerlinger Schützen
URL:https://ottfingen.de/event/schuetzenfest-gerlingen/
END:VEVENT
BEGIN:VEVENT
DTSTART;TZID=UTC:20230709T140000
DTEND;TZID=UTC:20230709T180000
DTSTAMP:20260421T083740
CREATED:20221222T090148Z
LAST-MODIFIED:20221222T090150Z
UID:958-1688911200-1688925600@ottfingen.de
SUMMARY:MV Festzug Schützenfest Altenhundem
DESCRIPTION:
URL:https://ottfingen.de/event/mv-festzug-schuetzenfest-altenhundem/
END:VEVENT
BEGIN:VEVENT
DTSTART;TZID=UTC:20230710T160000
DTEND;TZID=UTC:20230710T190000
DTSTAMP:20260421T083740
CREATED:20221222T090249Z
LAST-MODIFIED:20221222T090250Z
UID:960-1689004800-1689015600@ottfingen.de
SUMMARY:MV Festzug Schützenfest Altenhundem
DESCRIPTION:
URL:https://ottfingen.de/event/mv-festzug-schuetzenfest-altenhundem-2/
END:VEVENT
BEGIN:VEVENT
DTSTART;TZID=UTC:20230715T080000
DTEND;TZID=UTC:20230716T170000
DTSTAMP:20260421T083740
CREATED:20221117T070557Z
LAST-MODIFIED:20221117T070558Z
UID:887-1689408000-1689526800@ottfingen.de
SUMMARY:Mitwirkung Festzug Schützenfest Olpe
DESCRIPTION:Tambourcorps
URL:https://ottfingen.de/event/mitwirkung-festzug-schuetzenfest-olpe/
ORGANIZER;CN="Tambourcorps Ottfingen":MAILTO:ansgar.eichert@tambourcorps-ottfingen.de
END:VEVENT
BEGIN:VEVENT
DTSTART;TZID=UTC:20230722T170000
DTEND;TZID=UTC:20230722T200000
DTSTAMP:20260421T083740
CREATED:20221222T091300Z
LAST-MODIFIED:20221222T091302Z
UID:962-1690045200-1690056000@ottfingen.de
SUMMARY:MV Festmusik Schützenfest Büderich
DESCRIPTION:Mit Übernachtung
URL:https://ottfingen.de/event/mv-festmusik-schuetzenfest-buederich/
END:VEVENT
BEGIN:VEVENT
DTSTART;TZID=UTC:20230723T090000
DTEND;TZID=UTC:20230723T160000
DTSTAMP:20260421T083740
CREATED:20221222T091356Z
LAST-MODIFIED:20221222T091357Z
UID:964-1690102800-1690128000@ottfingen.de
SUMMARY:MV Festmusik Schützenfest Büderich
DESCRIPTION:
URL:https://ottfingen.de/event/mv-festmusik-schuetzenfest-buederich-2/
END:VEVENT
BEGIN:VEVENT
DTSTART;TZID=UTC:20230729T150000
DTEND;TZID=UTC:20230729T200000
DTSTAMP:20260421T083740
CREATED:20221222T091458Z
LAST-MODIFIED:20221222T091459Z
UID:966-1690642800-1690660800@ottfingen.de
SUMMARY:MV Festmusik Schützenfest Scheiderwald
DESCRIPTION:
URL:https://ottfingen.de/event/mv-festmusik-schuetzenfest-scheiderwald/
END:VEVENT
END:VCALENDAR