BEGIN:VCALENDAR
VERSION:2.0
PRODID:-//ottfingen.de - ECPv6.15.20//NONSGML v1.0//EN
CALSCALE:GREGORIAN
METHOD:PUBLISH
X-ORIGINAL-URL:https://ottfingen.de
X-WR-CALDESC:Veranstaltungen für ottfingen.de
REFRESH-INTERVAL;VALUE=DURATION:PT1H
X-Robots-Tag:noindex
X-PUBLISHED-TTL:PT1H
BEGIN:VTIMEZONE
TZID:UTC
BEGIN:STANDARD
TZOFFSETFROM:+0000
TZOFFSETTO:+0000
TZNAME:UTC
DTSTART:20220101T000000
END:STANDARD
END:VTIMEZONE
BEGIN:VEVENT
DTSTART;TZID=UTC:20230604T103000
DTEND;TZID=UTC:20230604T120000
DTSTAMP:20260421T095531
CREATED:20221222T172209Z
LAST-MODIFIED:20221222T172211Z
UID:993-1685874600-1685880000@ottfingen.de
SUMMARY:Mitgliederversammlung Einkaufs- und Versorgungsgenossenschaft Ottfingen eG
DESCRIPTION:Einkaufs- und Versorgungsgenossenschaft Ottfingen eG
URL:https://ottfingen.de/event/mitgliederversammlung-einkaufs-und-versorgungsgenossenschaft-ottfingen-eg/
END:VEVENT
BEGIN:VEVENT
DTSTART;TZID=UTC:20230608T090000
DTEND;TZID=UTC:20230608T100000
DTSTAMP:20260421T095531
CREATED:20221217T080403Z
LAST-MODIFIED:20221228T074035Z
UID:941-1686214800-1686218400@ottfingen.de
SUMMARY:Prozession Fronleichnam
DESCRIPTION:Der Musikverein „Treue“ begleitet die Prozession. Die Schützenbruderschaft übernimmt das Tragen des Baldachins.
URL:https://ottfingen.de/event/prozession-doernschlade/
END:VEVENT
BEGIN:VEVENT
DTSTART;TZID=UTC:20230609T160000
DTEND;TZID=UTC:20230609T210000
DTSTAMP:20260421T095531
CREATED:20221222T085255Z
LAST-MODIFIED:20221222T085257Z
UID:944-1686326400-1686344400@ottfingen.de
SUMMARY:MV Festmusik Schützenfest Brün
DESCRIPTION:
URL:https://ottfingen.de/event/mv-festmusik-schuetzenfest-bruen/
END:VEVENT
BEGIN:VEVENT
DTSTART;TZID=UTC:20230610T080000
DTEND;TZID=UTC:20230610T170000
DTSTAMP:20260421T095531
CREATED:20221117T070018Z
LAST-MODIFIED:20221117T070019Z
UID:879-1686384000-1686416400@ottfingen.de
SUMMARY:Mitwirkung Festzug Schützenfest Brün
DESCRIPTION:
URL:https://ottfingen.de/event/mitwirkung-festzug-schuetzenfest-bruen/
ORGANIZER;CN="Tambourcorps Ottfingen":MAILTO:ansgar.eichert@tambourcorps-ottfingen.de
END:VEVENT
BEGIN:VEVENT
DTSTART;TZID=UTC:20230610T100000
DTEND;TZID=UTC:20230610T170000
DTSTAMP:20260421T095531
CREATED:20230316T095556Z
LAST-MODIFIED:20230316T095558Z
UID:1119-1686391200-1686416400@ottfingen.de
SUMMARY:Stimmbildung Kirchenchor St. Hubertus Ottfingen
DESCRIPTION:
URL:https://ottfingen.de/event/stimmbildung-kirchenchor-st-hubertus-ottfingen/
LOCATION:Pfarrheim Ottfingen\, Hubertusstraße 66\, Wenden - Ottfingen\, 57482
END:VEVENT
BEGIN:VEVENT
DTSTART;TZID=UTC:20230610T150000
DTEND;TZID=UTC:20230610T200000
DTSTAMP:20260421T095531
CREATED:20221222T085353Z
LAST-MODIFIED:20221222T085355Z
UID:946-1686409200-1686427200@ottfingen.de
SUMMARY:MV Festmusik Schützenfest Brün
DESCRIPTION:
URL:https://ottfingen.de/event/mv-festmusik-schuetzenfest-bruen-2/
END:VEVENT
BEGIN:VEVENT
DTSTART;TZID=UTC:20230611T090000
DTEND;TZID=UTC:20230611T160000
DTSTAMP:20260421T095531
CREATED:20221222T085449Z
LAST-MODIFIED:20221222T085451Z
UID:948-1686474000-1686499200@ottfingen.de
SUMMARY:MV Festmusik Schützenfest Brün
DESCRIPTION:
URL:https://ottfingen.de/event/mv-festmusik-schuetzenfest-bruen-3/
END:VEVENT
BEGIN:VEVENT
DTSTART;TZID=UTC:20230611T100000
DTEND;TZID=UTC:20230611T170000
DTSTAMP:20260421T095531
CREATED:20221211T082537Z
LAST-MODIFIED:20221211T082538Z
UID:918-1686477600-1686502800@ottfingen.de
SUMMARY:Mitt-Sommer-Fest Neger
DESCRIPTION:Teilnahme Ottfinger Chöre e.V. – Männerchor „Frohsinn“ – gegr. 1921
URL:https://ottfingen.de/event/mitt-sommer-fest-neger/
END:VEVENT
BEGIN:VEVENT
DTSTART;TZID=UTC:20230616T080000
DTEND;TZID=UTC:20230618T170000
DTSTAMP:20260421T095531
CREATED:20221117T070204Z
LAST-MODIFIED:20221117T070205Z
UID:881-1686902400-1687107600@ottfingen.de
SUMMARY:Mitwirkung Festzüge Schützenfest Ottfingen
DESCRIPTION:Tambourcorps
URL:https://ottfingen.de/event/mitwirkung-festzuege-schuetzenfest-ottfingen/
ORGANIZER;CN="Sch%C3%BCtzenbruderschaft Ottfingen 1919 e.V.":MAILTO:vorstand@schuetzenbruderschaft-ottfingen.de
END:VEVENT
BEGIN:VEVENT
DTSTART;TZID=UTC:20230616T163000
DTEND;TZID=UTC:20230616T235900
DTSTAMP:20260421T095531
CREATED:20221228T075121Z
LAST-MODIFIED:20230113T072436Z
UID:1034-1686933000-1686959940@ottfingen.de
SUMMARY:Schützenfest Ottfingen incl. Bezirksprinzenschießen
DESCRIPTION:
URL:https://ottfingen.de/event/schuetzenfest-ottfingen-2/
LOCATION:Schützenhaus Ottfingen\, Wilhelm-Tell Str. 24\, Wenden - Ottfingen\, 57482
ORGANIZER;CN="Sch%C3%BCtzenbruderschaft Ottfingen 1919 e.V.":MAILTO:vorstand@schuetzenbruderschaft-ottfingen.de
END:VEVENT
BEGIN:VEVENT
DTSTART;TZID=UTC:20230617T143000
DTEND;TZID=UTC:20230617T235900
DTSTAMP:20260421T095531
CREATED:20221228T075301Z
LAST-MODIFIED:20230113T072343Z
UID:1036-1687012200-1687046340@ottfingen.de
SUMMARY:Schützenfest Ottfingen
DESCRIPTION:
URL:https://ottfingen.de/event/schuetzenfest-ottfingen-3/
ORGANIZER;CN="Sch%C3%BCtzenbruderschaft Ottfingen 1919 e.V.":MAILTO:vorstand@schuetzenbruderschaft-ottfingen.de
END:VEVENT
BEGIN:VEVENT
DTSTART;TZID=UTC:20230618T100000
DTEND;TZID=UTC:20230618T160000
DTSTAMP:20260421T095531
CREATED:20221228T075557Z
LAST-MODIFIED:20230113T072227Z
UID:1038-1687082400-1687104000@ottfingen.de
SUMMARY:Schützenfest Ottfingen
DESCRIPTION:
URL:https://ottfingen.de/event/schuetzenfest-ottfingen-4/
ORGANIZER;CN="Sch%C3%BCtzenbruderschaft Ottfingen 1919 e.V.":MAILTO:vorstand@schuetzenbruderschaft-ottfingen.de
END:VEVENT
BEGIN:VEVENT
DTSTART;TZID=UTC:20230623T000000
DTEND;TZID=UTC:20230623T000100
DTSTAMP:20260421T095531
CREATED:20221222T085558Z
LAST-MODIFIED:20221222T085600Z
UID:950-1687478400-1687478460@ottfingen.de
SUMMARY:MV Festmusik Schützenfest Schönau
DESCRIPTION:
URL:https://ottfingen.de/event/mv-festmusik-schuetzenfest-schoenau/
END:VEVENT
BEGIN:VEVENT
DTSTART;TZID=UTC:20230624T150000
DTEND;TZID=UTC:20230624T200000
DTSTAMP:20260421T095531
CREATED:20221222T085648Z
LAST-MODIFIED:20221222T085650Z
UID:952-1687618800-1687636800@ottfingen.de
SUMMARY:MV Festmusik Schützenfest Schönau
DESCRIPTION:
URL:https://ottfingen.de/event/mv-festmusik-schuetzenfest-schoenau-2/
END:VEVENT
BEGIN:VEVENT
DTSTART;TZID=UTC:20230625T090000
DTEND;TZID=UTC:20230625T160000
DTSTAMP:20260421T095531
CREATED:20221222T085746Z
LAST-MODIFIED:20221222T085748Z
UID:954-1687683600-1687708800@ottfingen.de
SUMMARY:MV Festmusik Schützenfest Schönau
DESCRIPTION:
URL:https://ottfingen.de/event/mv-festmusik-schuetzenfest-schoenau-3/
END:VEVENT
BEGIN:VEVENT
DTSTART;TZID=UTC:20230630T080000
DTEND;TZID=UTC:20230630T170000
DTSTAMP:20260421T095531
CREATED:20221117T070438Z
LAST-MODIFIED:20221117T070439Z
UID:883-1688112000-1688144400@ottfingen.de
SUMMARY:Mitwirkung Zapfenstreich 125 Jahre Schützenverein St. Antonius Gerlingen 1898 e.V.
DESCRIPTION:
URL:https://ottfingen.de/event/mitwirkung-zapfenstreich-125-jahre-schuetzenverein-st-antonius-gerlingen-1898-e-v/
END:VEVENT
END:VCALENDAR