BEGIN:VCALENDAR
VERSION:2.0
PRODID:-//ottfingen.de - ECPv6.15.20//NONSGML v1.0//EN
CALSCALE:GREGORIAN
METHOD:PUBLISH
X-WR-CALNAME:ottfingen.de
X-ORIGINAL-URL:https://ottfingen.de
X-WR-CALDESC:Veranstaltungen für ottfingen.de
REFRESH-INTERVAL;VALUE=DURATION:PT1H
X-Robots-Tag:noindex
X-PUBLISHED-TTL:PT1H
BEGIN:VTIMEZONE
TZID:UTC
BEGIN:STANDARD
TZOFFSETFROM:+0000
TZOFFSETTO:+0000
TZNAME:UTC
DTSTART:20220101T000000
END:STANDARD
END:VTIMEZONE
BEGIN:VEVENT
DTSTART;TZID=UTC:20230501T110000
DTEND;TZID=UTC:20230501T180000
DTSTAMP:20260421T110338
CREATED:20221216T074738Z
LAST-MODIFIED:20230411T150852Z
UID:925-1682938800-1682964000@ottfingen.de
SUMMARY:Jausenstation an der Schutzhütte
DESCRIPTION:Herzliche Einladung an alle\, sich an der Jausenstation der Ottfinger Chöre e.V. an der Schutzhütte im ehem. Steinbruch zu erfrischen.
URL:https://ottfingen.de/event/jausenstation-an-der-schutzhuette/
END:VEVENT
BEGIN:VEVENT
DTSTART;TZID=UTC:20230508T160000
DTEND;TZID=UTC:20230508T190000
DTSTAMP:20260421T110338
CREATED:20230308T215629Z
LAST-MODIFIED:20230308T215631Z
UID:1112-1683561600-1683572400@ottfingen.de
SUMMARY:Dorfsäuberung 2023
DESCRIPTION:
URL:https://ottfingen.de/event/dorfsaeuberung-2023/
END:VEVENT
BEGIN:VEVENT
DTSTART;TZID=UTC:20230510T130000
DTEND;TZID=UTC:20230510T210000
DTSTAMP:20260421T110338
CREATED:20230115T095551Z
LAST-MODIFIED:20230115T095553Z
UID:1080-1683723600-1683752400@ottfingen.de
SUMMARY:Seniorenausflug Caritas
DESCRIPTION:
URL:https://ottfingen.de/event/seniorenausflug-caritas/
END:VEVENT
BEGIN:VEVENT
DTSTART;TZID=UTC:20230512T180000
DTEND;TZID=UTC:20230512T223000
DTSTAMP:20260421T110338
CREATED:20221211T081935Z
LAST-MODIFIED:20221211T081937Z
UID:912-1683914400-1683930600@ottfingen.de
SUMMARY:Chorfest der Chorgemeinschaft Wenden "Wenden ist ganz Chor"
DESCRIPTION:Ausrichter des Chorfestes ist der Frauenchor „Singfonie 20elf“ Schönau Altenwenden \n\n\n\nChorfest mit den Chören der Chorgemeinschaft und Gastchören
URL:https://ottfingen.de/event/chorfest-der-chorgemeinschaft-wenden-wenden-ist-ganz-chor/
END:VEVENT
BEGIN:VEVENT
DTSTART;TZID=UTC:20230513T180000
DTEND;TZID=UTC:20230513T223000
DTSTAMP:20260421T110338
CREATED:20221211T082056Z
LAST-MODIFIED:20221211T082058Z
UID:914-1684000800-1684017000@ottfingen.de
SUMMARY:Chorfest der Chorgemeinschaft Wenden "Wenden ist ganz Chor"
DESCRIPTION:
URL:https://ottfingen.de/event/chorfest-der-chorgemeinschaft-wenden-wenden-ist-ganz-chor-2/
END:VEVENT
BEGIN:VEVENT
DTSTART;TZID=UTC:20230513T180000
DTEND;TZID=UTC:20230513T230000
DTSTAMP:20260421T110338
CREATED:20230316T095331Z
LAST-MODIFIED:20230316T095333Z
UID:1117-1684000800-1684018800@ottfingen.de
SUMMARY:Teilnahme am Gemeindechorfest
DESCRIPTION:Der Kirchenchor St. Hubertus Ottfingen nimmt am Gemeindechorfest teil\, das vom Frauenchor Singfonie 20elf Schönau ausgerichtet wird.
URL:https://ottfingen.de/event/teilnahme-am-gemeindechorfest/
END:VEVENT
BEGIN:VEVENT
DTSTART;TZID=UTC:20230514T080000
DTEND;TZID=UTC:20230514T170000
DTSTAMP:20260421T110338
CREATED:20221211T082329Z
LAST-MODIFIED:20221211T083356Z
UID:916-1684051200-1684083600@ottfingen.de
SUMMARY:Leistungssingen des CV NRW e.V. in Dortmund
DESCRIPTION:Die Ottfinger Chöre e.V. – Stimmwerk – gegr. 2012 nehmen am Konzertchorsingen (der 2. Stufe zum Meisterchor) teil.
URL:https://ottfingen.de/event/leistungssingen-des-cv-nrw-e-v-in-dortmund/
END:VEVENT
BEGIN:VEVENT
DTSTART;TZID=UTC:20230519T000000
DTEND;TZID=UTC:20230519T235959
DTSTAMP:20260421T110338
CREATED:20221228T074909Z
LAST-MODIFIED:20230113T071922Z
UID:1032-1684454400-1684540799@ottfingen.de
SUMMARY:Bezirkskönigsschießen in Altenhof
DESCRIPTION:Die Schützenbruderschaften ermitteln ihren Bezirkskönig
URL:https://ottfingen.de/event/bezirkskoenigsschiessen-in-wenden/
END:VEVENT
BEGIN:VEVENT
DTSTART;TZID=UTC:20230521T160000
DTEND;TZID=UTC:20230521T180000
DTSTAMP:20260421T110338
CREATED:20221217T075633Z
LAST-MODIFIED:20221217T075634Z
UID:933-1684684800-1684692000@ottfingen.de
SUMMARY:Jubiläum SV & MV Wegeringhausen (Festzug)
DESCRIPTION:Der Musikverein „Treue“ gestaltet den Festzug mit.
URL:https://ottfingen.de/event/jubilaeum-sv-mv-wegeringhausen-festzug/
END:VEVENT
BEGIN:VEVENT
DTSTART;TZID=UTC:20230528T150000
DTEND;TZID=UTC:20230528T190000
DTSTAMP:20260421T110338
CREATED:20221217T075854Z
LAST-MODIFIED:20221217T075912Z
UID:935-1685286000-1685300400@ottfingen.de
SUMMARY:Festmusik SF Dahl
DESCRIPTION:Musikverein „Treue“ Festmusik
URL:https://ottfingen.de/event/festmusik-sf-dahl/
LOCATION:Dahl
END:VEVENT
BEGIN:VEVENT
DTSTART;TZID=UTC:20230529T090000
DTEND;TZID=UTC:20230529T190000
DTSTAMP:20260421T110338
CREATED:20221217T080027Z
LAST-MODIFIED:20221217T080028Z
UID:939-1685350800-1685386800@ottfingen.de
SUMMARY:Festmusik SF Dahl
DESCRIPTION:Musikverein „Treue“ Festmusik
URL:https://ottfingen.de/event/festmusik-sf-dahl-2/
END:VEVENT
END:VCALENDAR