BEGIN:VCALENDAR
VERSION:2.0
PRODID:-//ottfingen.de - ECPv6.15.20//NONSGML v1.0//EN
CALSCALE:GREGORIAN
METHOD:PUBLISH
X-ORIGINAL-URL:https://ottfingen.de
X-WR-CALDESC:Veranstaltungen für ottfingen.de
REFRESH-INTERVAL;VALUE=DURATION:PT1H
X-Robots-Tag:noindex
X-PUBLISHED-TTL:PT1H
BEGIN:VTIMEZONE
TZID:UTC
BEGIN:STANDARD
TZOFFSETFROM:+0000
TZOFFSETTO:+0000
TZNAME:UTC
DTSTART:20220101T000000
END:STANDARD
END:VTIMEZONE
BEGIN:VEVENT
DTSTART;TZID=UTC:20230306T190000
DTEND;TZID=UTC:20230306T210000
DTSTAMP:20260421T135524
CREATED:20230115T095151Z
LAST-MODIFIED:20230115T095201Z
UID:1072-1678129200-1678136400@ottfingen.de
SUMMARY:Caritas Konferenz
DESCRIPTION:
URL:https://ottfingen.de/event/caritas-konferenz-3/
LOCATION:Pfarrheim Ottfingen\, Hubertusstraße 66\, Wenden - Ottfingen\, 57482
END:VEVENT
BEGIN:VEVENT
DTSTART;TZID=UTC:20230311T080000
DTEND;TZID=UTC:20230312T170000
DTSTAMP:20260421T135524
CREATED:20221117T065716Z
LAST-MODIFIED:20230316T180422Z
UID:875-1678521600-1678640400@ottfingen.de
SUMMARY:Probenwochenende Tambourcorps
DESCRIPTION:Probenwochenede des Tambourcorps
URL:https://ottfingen.de/event/probenwochenende/
ORGANIZER;CN="Tambourcorps Ottfingen":MAILTO:ansgar.eichert@tambourcorps-ottfingen.de
END:VEVENT
BEGIN:VEVENT
DTSTART;TZID=UTC:20230321T150000
DTEND;TZID=UTC:20230321T190000
DTSTAMP:20260421T135524
CREATED:20230115T095339Z
LAST-MODIFIED:20230115T095341Z
UID:1076-1679410800-1679425200@ottfingen.de
SUMMARY:Frühlingsfest Caritas
DESCRIPTION:
URL:https://ottfingen.de/event/fruehlingsfest-caritas/
LOCATION:Pfarrheim Ottfingen\, Hubertusstraße 66\, Wenden - Ottfingen\, 57482
END:VEVENT
BEGIN:VEVENT
DTSTART;TZID=UTC:20230324T193000
DTEND;TZID=UTC:20230324T210000
DTSTAMP:20260421T135524
CREATED:20230125T055648Z
LAST-MODIFIED:20230125T055649Z
UID:1097-1679686200-1679691600@ottfingen.de
SUMMARY:Jahreshauptversammlung Musikverein
DESCRIPTION:Alle Mitglieder sind herzlich eingeladen in den Probenraum am Katharinenweg.
URL:https://ottfingen.de/event/jahreshauptversammlung-musikverein/
END:VEVENT
BEGIN:VEVENT
DTSTART;TZID=UTC:20230325T180000
DTEND;TZID=UTC:20230325T233000
DTSTAMP:20260421T135524
CREATED:20221228T072815Z
LAST-MODIFIED:20221228T072816Z
UID:1022-1679767200-1679787000@ottfingen.de
SUMMARY:Oldie Abend im Schützenhaus
DESCRIPTION:
URL:https://ottfingen.de/event/oldie-abend-im-schuetzenhaus/
LOCATION:Schützenhaus Ottfingen\, Wilhelm-Tell Str. 24\, Wenden - Ottfingen\, 57482
ORGANIZER;CN="Sch%C3%BCtzenbruderschaft Ottfingen 1919 e.V.":MAILTO:vorstand@schuetzenbruderschaft-ottfingen.de
END:VEVENT
BEGIN:VEVENT
DTSTART;TZID=UTC:20230327T180000
DTEND;TZID=UTC:20230327T210000
DTSTAMP:20260421T135524
CREATED:20230224T144103Z
LAST-MODIFIED:20230224T144105Z
UID:1106-1679940000-1679950800@ottfingen.de
SUMMARY:Genossenschaftsversammlung Waldgenossenschaft Ottfingen II
DESCRIPTION:Herzliche Einladung zur Genossenschaftsversammlung
URL:https://ottfingen.de/event/genossenschaftsversammlung-waldgenossenschaft-ottfingen-ii/
LOCATION:Pfarrheim Ottfingen\, Hubertusstraße 66\, Wenden - Ottfingen\, 57482
END:VEVENT
END:VCALENDAR