BEGIN:VCALENDAR
VERSION:2.0
PRODID:-//ottfingen.de - ECPv6.15.20//NONSGML v1.0//EN
CALSCALE:GREGORIAN
METHOD:PUBLISH
X-WR-CALNAME:ottfingen.de
X-ORIGINAL-URL:https://ottfingen.de
X-WR-CALDESC:Veranstaltungen für ottfingen.de
REFRESH-INTERVAL;VALUE=DURATION:PT1H
X-Robots-Tag:noindex
X-PUBLISHED-TTL:PT1H
BEGIN:VTIMEZONE
TZID:UTC
BEGIN:STANDARD
TZOFFSETFROM:+0000
TZOFFSETTO:+0000
TZNAME:UTC
DTSTART:20220101T000000
END:STANDARD
END:VTIMEZONE
BEGIN:VEVENT
DTSTART;TZID=UTC:20230210T183000
DTEND;TZID=UTC:20230210T203000
DTSTAMP:20260421T151603
CREATED:20221227T070522Z
LAST-MODIFIED:20221227T070559Z
UID:998-1676053800-1676061000@ottfingen.de
SUMMARY:Jugendversammlung SVO
DESCRIPTION:
URL:https://ottfingen.de/event/jugendversammlung-svo/
LOCATION:Sportheim am Siepen\, Thomasstr./Am Siepen\, 57482 Wenden\, Deutschland
END:VEVENT
BEGIN:VEVENT
DTSTART;TZID=UTC:20230217T193100
DTEND;TZID=UTC:20230217T233000
DTSTAMP:20260421T151603
CREATED:20221227T071122Z
LAST-MODIFIED:20221227T071123Z
UID:1002-1676662260-1676676600@ottfingen.de
SUMMARY:Jahreshauptversammlung SVO
DESCRIPTION:
URL:https://ottfingen.de/event/jahreshauptversammlung-svo/
END:VEVENT
BEGIN:VEVENT
DTSTART;TZID=UTC:20230220T080000
DTEND;TZID=UTC:20230220T190000
DTSTAMP:20260421T151603
CREATED:20221117T065427Z
LAST-MODIFIED:20221117T065532Z
UID:873-1676880000-1676919600@ottfingen.de
SUMMARY:Rosenmontagszug Köln
DESCRIPTION:Das Tambourcorps Ottfingen wirkt mit beim Rosenmontagszug in Köln
URL:https://ottfingen.de/event/rosenmontagszug-koeln/
ORGANIZER;CN="Tambourcorps Ottfingen":MAILTO:ansgar.eichert@tambourcorps-ottfingen.de
END:VEVENT
BEGIN:VEVENT
DTSTART;TZID=UTC:20230224T193000
DTEND;TZID=UTC:20230224T220000
DTSTAMP:20260421T151603
CREATED:20221228T072658Z
LAST-MODIFIED:20221228T072700Z
UID:1020-1677267000-1677276000@ottfingen.de
SUMMARY:Jahreshauptversammlung Schützenbruderschaft
DESCRIPTION:Alle Mitglieder der Schützenbruderschaft sind herzlich eingeladen.
URL:https://ottfingen.de/event/jahreshauptversammlung-schuetzenbruderschaft/
LOCATION:Schützenhaus Ottfingen\, Wilhelm-Tell Str. 24\, Wenden - Ottfingen\, 57482
ORGANIZER;CN="Sch%C3%BCtzenbruderschaft Ottfingen 1919 e.V.":MAILTO:vorstand@schuetzenbruderschaft-ottfingen.de
END:VEVENT
END:VCALENDAR