BEGIN:VCALENDAR
VERSION:2.0
PRODID:-//ottfingen.de - ECPv6.15.20//NONSGML v1.0//EN
CALSCALE:GREGORIAN
METHOD:PUBLISH
X-WR-CALNAME:ottfingen.de
X-ORIGINAL-URL:https://ottfingen.de
X-WR-CALDESC:Veranstaltungen für ottfingen.de
REFRESH-INTERVAL;VALUE=DURATION:PT1H
X-Robots-Tag:noindex
X-PUBLISHED-TTL:PT1H
BEGIN:VTIMEZONE
TZID:UTC
BEGIN:STANDARD
TZOFFSETFROM:+0000
TZOFFSETTO:+0000
TZNAME:UTC
DTSTART:20210101T000000
END:STANDARD
END:VTIMEZONE
BEGIN:VEVENT
DTSTART;TZID=UTC:20221113T170000
DTEND;TZID=UTC:20221113T190000
DTSTAMP:20260421T192348
CREATED:20220424T120033Z
LAST-MODIFIED:20220424T120034Z
UID:715-1668358800-1668366000@ottfingen.de
SUMMARY:Martinszug Ottfingen
DESCRIPTION:Musikverein Treue
URL:https://ottfingen.de/event/martinszug-ottfingen/
END:VEVENT
BEGIN:VEVENT
DTSTART;TZID=UTC:20221114T190000
DTEND;TZID=UTC:20221114T210000
DTSTAMP:20260421T192348
CREATED:20220409T192320Z
LAST-MODIFIED:20220409T194804Z
UID:572-1668452400-1668459600@ottfingen.de
SUMMARY:Caritas Konferenz
DESCRIPTION:Pfarrheim
URL:https://ottfingen.de/event/caritas-konferenz-2/
LOCATION:Pfarrheim Ottfingen\, Hubertusstraße 66\, Wenden - Ottfingen\, 57482
END:VEVENT
BEGIN:VEVENT
DTSTART;TZID=UTC:20221118T170000
DTEND;TZID=UTC:20221118T190000
DTSTAMP:20260421T192348
CREATED:20220424T115901Z
LAST-MODIFIED:20220914T123227Z
UID:713-1668790800-1668798000@ottfingen.de
SUMMARY:Martinszug Brün
DESCRIPTION:Musikverein Treue
URL:https://ottfingen.de/event/martinszug-bruen/
END:VEVENT
BEGIN:VEVENT
DTSTART;TZID=UTC:20221118T193000
DTEND;TZID=UTC:20221118T210000
DTSTAMP:20260421T192348
CREATED:20220424T112600Z
LAST-MODIFIED:20220914T123450Z
UID:679-1668799800-1668805200@ottfingen.de
SUMMARY:Jahreshauptversammlung MVO
DESCRIPTION:
URL:https://ottfingen.de/event/jahreshauptversammlung-mvo/
LOCATION:Probenraum Katharinenweg
END:VEVENT
BEGIN:VEVENT
DTSTART;TZID=UTC:20221118T193000
DTEND;TZID=UTC:20221118T230000
DTSTAMP:20260421T192348
CREATED:20220602T083948Z
LAST-MODIFIED:20221028T053519Z
UID:777-1668799800-1668812400@ottfingen.de
SUMMARY:Mitgliederversammlung Tambourcorps
DESCRIPTION:Mitgliederversammlung Tambourcorps in der Alten KapelleDas Tambourcorps Ottfingen lädt alle aktiven und fördernden Mitglieder zur Mitgliederversammlung 2022 ein.
URL:https://ottfingen.de/event/mitgliederversammlung-tambourcorps/
LOCATION:Alte Kapelle\, Kapellenplatz 2\, Wenden\, NRW\, Deutschland
ORGANIZER;CN="Tambourcorps Ottfingen":MAILTO:ansgar.eichert@tambourcorps-ottfingen.de
END:VEVENT
BEGIN:VEVENT
DTSTART;TZID=UTC:20221122T190000
DTEND;TZID=UTC:20221122T220000
DTSTAMP:20260421T192348
CREATED:20221108T122338Z
LAST-MODIFIED:20221108T122339Z
UID:848-1669143600-1669154400@ottfingen.de
SUMMARY:Verbandsversammlung des Wasserbeschaffungsverbandes Ottfingen
DESCRIPTION:Tagesordnung: \n\n\n\n\nBegrüßung und Feststellung der fristgerechten Einberufung derVerbandsversammlung\n\n\n\nVorlage der geprüften Jahresrechnung 2021 sowie Entlastung desVorstandes\n\n\n\nTätigkeitsbericht 2022\n\n\n\nNeuwahl des 1. Vorsitzenden\n\n\n\nVorläufige Jahresrechnung 2022 hier: Kassenistbestand amVersammlungstag\n\n\n\nVorläufige Jahresrechnung 2022 hier: voraussichtlicherKassenistbestand am 31.12.2022\n\n\n\nBaumaßnahmen 2022\n\n\n\nBeitrags- und Gebührensatzung hier: Festsetzung des Wasserpreisesund der Grundgebühren für das Haushaltsjahr 2023 undNeufestsetzung des Anschlussbeitrages.\n\n\n\nBeratung und Beschlussfassung Haushaltsplan 2023\n\n\n\nVerschiedenes\n\n\n\n\nDie Verbandsversammlung findet unter Beachtung der aktuellen Bestimmungen der Corona-Schutzverordnung NRW statt.
URL:https://ottfingen.de/event/verbandsversammlung-des-wasserbeschaffungsverbandes-ottfingen/
LOCATION:Schützenhaus Ottfingen\, Wilhelm-Tell Str. 24\, Wenden - Ottfingen\, 57482
END:VEVENT
BEGIN:VEVENT
DTSTART;TZID=UTC:20221125T180000
DTEND;TZID=UTC:20221125T220000
DTSTAMP:20260421T192348
CREATED:20221115T192106Z
LAST-MODIFIED:20221115T192108Z
UID:851-1669399200-1669413600@ottfingen.de
SUMMARY:Generalversammlung Kirchenchor Ottfingen
DESCRIPTION:
URL:https://ottfingen.de/event/generalversammlung-kirchenchor-ottfingen/
LOCATION:Alte Kapelle\, Kapellenplatz 2\, Wenden\, NRW\, Deutschland
END:VEVENT
BEGIN:VEVENT
DTSTART;TZID=UTC:20221126T100000
DTEND;TZID=UTC:20221126T130000
DTSTAMP:20260421T192348
CREATED:20221115T200042Z
LAST-MODIFIED:20221115T200043Z
UID:867-1669456800-1669467600@ottfingen.de
SUMMARY:Stimmbildung Kirchenchor Ottfingen
DESCRIPTION:
URL:https://ottfingen.de/event/stimmbildung-kirchenchor-ottfingen/
LOCATION:Alte Kapelle\, Kapellenplatz 2\, Wenden\, NRW\, Deutschland
END:VEVENT
BEGIN:VEVENT
DTSTART;TZID=UTC:20221127T170000
DTEND;TZID=UTC:20221127T183000
DTSTAMP:20260421T192348
CREATED:20220914T123716Z
LAST-MODIFIED:20220914T123717Z
UID:830-1669568400-1669573800@ottfingen.de
SUMMARY:Adventskonzert in der St. Hubertus Kirche
DESCRIPTION:
URL:https://ottfingen.de/event/adventskonzert-in-der-st-hubertus-kirche/
END:VEVENT
BEGIN:VEVENT
DTSTART;TZID=UTC:20221130T150000
DTEND;TZID=UTC:20221130T180000
DTSTAMP:20260421T192348
CREATED:20220409T192746Z
LAST-MODIFIED:20220409T192747Z
UID:575-1669820400-1669831200@ottfingen.de
SUMMARY:Adventsnachmittag
DESCRIPTION:Beginn in der St. Hubertus Kirche anschließend Kaffeetrinken im Pfarrheim
URL:https://ottfingen.de/event/adventsnachmittag/
LOCATION:Caritas
END:VEVENT
END:VCALENDAR