BEGIN:VCALENDAR
VERSION:2.0
PRODID:-//ottfingen.de - ECPv6.15.20//NONSGML v1.0//EN
CALSCALE:GREGORIAN
METHOD:PUBLISH
X-ORIGINAL-URL:https://ottfingen.de
X-WR-CALDESC:Veranstaltungen für ottfingen.de
REFRESH-INTERVAL;VALUE=DURATION:PT1H
X-Robots-Tag:noindex
X-PUBLISHED-TTL:PT1H
BEGIN:VTIMEZONE
TZID:UTC
BEGIN:STANDARD
TZOFFSETFROM:+0000
TZOFFSETTO:+0000
TZNAME:UTC
DTSTART:20210101T000000
END:STANDARD
END:VTIMEZONE
BEGIN:VEVENT
DTSTART;TZID=UTC:20220501T100000
DTEND;TZID=UTC:20220501T170000
DTSTAMP:20260422T041345
CREATED:20220409T144606Z
LAST-MODIFIED:20220424T114726Z
UID:550-1651399200-1651424400@ottfingen.de
SUMMARY:Jausenstation
DESCRIPTION:Nach der Pandemie bedingten Pause soll ein Neustart der „Jausenstation“ gewagt werden. \n\n\n\nDie Ottfinger Chöre e.V. laden ein zur Rast an der Jausenstation an der Schutzhütte im Steinbruch. \n\n\n\n\nPlakat ansehen
URL:https://ottfingen.de/event/jausenstation/
LOCATION:Schutzhütte im Steinbruch\, Breites Tor\, Wenden-Ottfingen\, 57482\, Deutschland
END:VEVENT
BEGIN:VEVENT
DTSTART;TZID=UTC:20220501T150000
DTEND;TZID=UTC:20220501T180000
DTSTAMP:20260422T041345
CREATED:20220602T081519Z
LAST-MODIFIED:20220602T081731Z
UID:752-1651417200-1651428000@ottfingen.de
SUMMARY:Schützenfest Elben
DESCRIPTION:Tambourcorps Festmusik / musikalische Mitgestaltung
URL:https://ottfingen.de/event/schuetzenfest-elben/
ORGANIZER;CN="Tambourcorps Ottfingen":MAILTO:ansgar.eichert@tambourcorps-ottfingen.de
END:VEVENT
BEGIN:VEVENT
DTSTART;TZID=UTC:20220502T163000
DTEND;TZID=UTC:20220502T193000
DTSTAMP:20260422T041345
CREATED:20220426T172849Z
LAST-MODIFIED:20220426T172851Z
UID:720-1651509000-1651519800@ottfingen.de
SUMMARY:Dorfsäuberung 2022
DESCRIPTION:Unser Ortsvorsteher Ralf Bröcher lädt euch alle zur traditionellen Dorfsäuberung mit anschließendem Abendsnack und kalten Getränken ein. Wir treffen uns an der Mehrzweckhalle\, der Eingang liegt im Katharinenweg. Wir hoffen das wie in den letzten Jahren viele alte und neue Gesichter erscheinen und wir einen schönen Abend verbringen. Ralf bittet darum\, Handschuhe und auch die ein oder andere Schubkarre oder sonstige kleine Transportmittel mitzubringen. \n\n\n\n\n\n\n\nDie Dorfsäuberung dient auch zur Vorbereitung der am 09. Mai stattfindenden Begehung durch die Kreis-Kommission des Wettbewerbs „Unser Dorf hat Zukunft“. Auch hierzu lädt der Ortsvorsteher alle Interessierten ein\, sich der Begehung anzuschließen. Details folgen in der kommenden Woche.
URL:https://ottfingen.de/event/dorfsaeuberung-2022-2/
LOCATION:Mehrzweckhalle Ottfingen\, Von-Galen-Straße 12\, Wenden\, 57482
END:VEVENT
BEGIN:VEVENT
DTSTART;TZID=UTC:20220506T153000
DTEND;TZID=UTC:20220506T170000
DTSTAMP:20260422T041345
CREATED:20220503T090358Z
LAST-MODIFIED:20220503T090626Z
UID:729-1651851000-1651856400@ottfingen.de
SUMMARY:Muttertagsaktion der kfd Ottfingen
DESCRIPTION:Um besonders die Frauen in der Ukraine zu unterstützen\, die eine übergroße Last zu tragen haben\, startet die kfd Ottfingen wieder ihre Muttertagsaktion. Am Freitag\, 6. Mai\, bieten die Frauen ab 15.30 Uhr am Pfarrheim Topfrosen und Waffeln zum Mitnehmen an und hoffen auf die Unterstützung der Dorfbewohner. Der Erlös soll die Caritas Ukraine unterstützen. Um Verpackungsmüll zu vermeiden\, wäre es gut\, Transportbehälter mitzubringen.
URL:https://ottfingen.de/event/muttertagsaktion-der-kfd-ottfingen/
LOCATION:Pfarrheim Ottfingen\, Hubertusstraße 66\, Wenden - Ottfingen\, 57482
ORGANIZER;CN="kfd Ottfingen":MAILTO:rschmidtott@web.de
END:VEVENT
BEGIN:VEVENT
DTSTART;TZID=UTC:20220509T143000
DTEND;TZID=UTC:20220509T163000
DTSTAMP:20260422T041345
CREATED:20220421T155920Z
LAST-MODIFIED:20220421T155921Z
UID:635-1652106600-1652113800@ottfingen.de
SUMMARY:Dorfbegehung ”Unser Dorf hat Zukunft”
DESCRIPTION:Ottfingen und Elben haben sich innerhalb der Gemeinde Wenden für den Wettbewerb ”Unser Dorf hat Zukunft” auf Kreisebene qualifiziert. Daher wird uns eine ca. 10 köpfige Jury besuchen der wir gemeinsam mit unserem Ortsvorsteher\, der Zukunftswerkstatt Ottfingen und den Vereinen vorstellen möchten was wir hier auf die Beine gestellt haben. \n\n\n\nAlle interessierten Bürger sind herzlich eingeladen die Gruppe zu begleiten. Treffpunkt ist der Dorfplatz Ottfingen.
URL:https://ottfingen.de/event/dorfbegehung-unser-dorf-hat-zukunft/
LOCATION:Dorfplatz Ottfingen\, Hubertusstr. 65\, Wenden - Ottfingen\, 57482
END:VEVENT
BEGIN:VEVENT
DTSTART;TZID=UTC:20220514T100000
DTEND;TZID=UTC:20220514T170000
DTSTAMP:20260422T041345
CREATED:20220424T110547Z
LAST-MODIFIED:20220424T112843Z
UID:663-1652522400-1652547600@ottfingen.de
SUMMARY:Probentag MVO
DESCRIPTION:Probentag des Musikvereins Treue Ottfingen
URL:https://ottfingen.de/event/probentag-mvo/
END:VEVENT
BEGIN:VEVENT
DTSTART;TZID=UTC:20220521T100000
DTEND;TZID=UTC:20220521T130000
DTSTAMP:20260422T041345
CREATED:20220513T205838Z
LAST-MODIFIED:20220515T141644Z
UID:741-1653127200-1653138000@ottfingen.de
SUMMARY:Ottfinger Radrunde Nummero 2
DESCRIPTION:Wann: Sonntag\, 21.05.2022 um 10:00 UhrWo: Start am Dorfplatz Ottfingen gegenüber der Kirche. \n\n\n\nWir fahren vorwiegend über Wald- und Feld-Wege\, daher passt ein Gravelrad oder MTB am besten.Wir frage vor Start die Fitness der Teilnehmer ab\, basierend darauf passen wir Gelände und Streckenlänge ab. Jeder soll Spaß haben\, keiner wird abgehängt.Da am 21.05 das Ottfinger Frühlingsfest stattfindet können wir dort ein kaltes Abschlussgetränk trinken wenn wir wollen.Format “Offener Radtreff” – wer Zeit und Lust hat kommt einfach spontan dazu\, es gibt keine Pflicht zu regelmäßiger Teilnahme. Keine Vereinsveranstaltung – Jeder fährt auf eigenes Risiko.\n\n\n\nIhr erfahrt von neuen Ausfahrten hier auf der Webseite oder in folgender WhatsApp Gruppe: \n\n\n\n\nWhatsApp Gruppe beitreten\n\n\n\n\nLetztes Mal sind wir etwa 35km durch Wald und Feld geradelt:
URL:https://ottfingen.de/event/ottfinger-radrunde-gravel/
LOCATION:Dorfplatz Ottfingen\, Hubertusstr. 65\, Wenden - Ottfingen\, 57482
END:VEVENT
BEGIN:VEVENT
DTSTART;TZID=UTC:20220521T110000
DTEND;TZID=UTC:20220521T160000
DTSTAMP:20260422T041345
CREATED:20220515T141338Z
LAST-MODIFIED:20220515T141340Z
UID:745-1653130800-1653148800@ottfingen.de
SUMMARY:Ottfinger Frühlingsfest
DESCRIPTION:Wir freuen uns Euch zum Ottfinger Frühlingsfest einzuladen. Für eure Unterhaltung und das leibliche Wohl ist bestens gesorgt: \n\n\n\nReichhaltige Auswahl an Kaltgetränken inklusive der Verkostung verschiedener Spezialbiere und einer Weinprobe.Leckeres vom Grill.Kaffee\, Kuchen\, Waffeln und Eis für Groß und Klein.Musikalische Begleitung durch die Ottfinger singenden und musizierenden Vereine.Informationen der ZWO zum aktuellen Stand des Breitbandausbau und dem Neubau eines Spielplatz mit Möglichkeit Fragen zu stellen.Fotopräsentation ”Ottfingen in den 60er Jahren” aus dem Dorfarchiv.Einweihung unseres neuen Warenautomaten ”Ottimat” an dem 24/7 eingekauft werden kann.
URL:https://ottfingen.de/event/ottfinger-fruehlingsfest/
LOCATION:Dorfladen Ottfingen\, Hubertusstraße 75\, Wenden\, 57482\, Deutschland
END:VEVENT
BEGIN:VEVENT
DTSTART;TZID=UTC:20220525T190000
DTEND;TZID=UTC:20220525T233000
DTSTAMP:20260422T041345
CREATED:20220422T130639Z
LAST-MODIFIED:20220422T130640Z
UID:644-1653505200-1653521400@ottfingen.de
SUMMARY:Siepen im Sunnesching - Open Air
DESCRIPTION:Sei auch du dabei und feier‘ mit den beiden kölschen Kultbands CAT BALLOU und KLÜNGELKÖPP unter freiem Himmel bis in die Nacht! \n\n\n\n\n\nSiepen im Sunnesching – Das sind kölsche Gefühle inmitten des Sauerlands. \n\n\n\nSei auch du dabei und feier‘ mit den beiden kölschen Kultbands CAT BALLOU und KLÜNGELKÖPP unter freiem Himmel bis in die Nacht! Alte Karten aus 2020 behalten ihre Gültigkeit! \n\n\n\nVorverkaufsstellen: \n\n\n\nSalon Hetzel\, OttfingenSalon Hetzel\, RothemühleChic Haarstudio\, OttfingenTankstelle Clemens & Ochel\, Gerlingen
URL:https://ottfingen.de/event/siepen-im-sunnesching-open-air/
LOCATION:Sportplatz Ottfingen\, Thomasstr. / Am Siepen\, Wenden\, 57482
END:VEVENT
BEGIN:VEVENT
DTSTART;TZID=UTC:20220531T190000
DTEND;TZID=UTC:20220531T210000
DTSTAMP:20260422T041345
CREATED:20220409T172846Z
LAST-MODIFIED:20220409T200203Z
UID:559-1654023600-1654030800@ottfingen.de
SUMMARY:Jahreshauptversammlung Caritas
DESCRIPTION:Pfarrheim Ottfingen
URL:https://ottfingen.de/event/jahreshauptversammlung-caritas/
LOCATION:Pfarrheim Ottfingen\, Hubertusstraße 66\, Wenden - Ottfingen\, 57482
END:VEVENT
END:VCALENDAR