BEGIN:VCALENDAR
VERSION:2.0
PRODID:-//ottfingen.de - ECPv6.15.20//NONSGML v1.0//EN
CALSCALE:GREGORIAN
METHOD:PUBLISH
X-WR-CALNAME:ottfingen.de
X-ORIGINAL-URL:https://ottfingen.de
X-WR-CALDESC:Veranstaltungen für ottfingen.de
REFRESH-INTERVAL;VALUE=DURATION:PT1H
X-Robots-Tag:noindex
X-PUBLISHED-TTL:PT1H
BEGIN:VTIMEZONE
TZID:UTC
BEGIN:STANDARD
TZOFFSETFROM:+0000
TZOFFSETTO:+0000
TZNAME:UTC
DTSTART:20250101T000000
END:STANDARD
END:VTIMEZONE
BEGIN:VEVENT
DTSTART;TZID=UTC:20261108T103000
DTEND;TZID=UTC:20261108T120000
DTSTAMP:20260422T092438
CREATED:20251102T161211Z
LAST-MODIFIED:20251102T161212Z
UID:2166-1794133800-1794139200@ottfingen.de
SUMMARY:Musikverein Treue Ottfingen Hubertusmesse St. Hubertus Ottfingen
DESCRIPTION:
URL:https://ottfingen.de/event/musikverein-treue-ottfingen-hubertusmesse-st-hubertus-ottfingen/
LOCATION:Ottfingen
CATEGORIES:Gastauftritte,In Ottfingen
END:VEVENT
BEGIN:VEVENT
DTSTART;TZID=UTC:20261108T103000
DTEND;TZID=UTC:20261108T170000
DTSTAMP:20260422T092438
CREATED:20260112T074053Z
LAST-MODIFIED:20260112T074054Z
UID:2291-1794133800-1794157200@ottfingen.de
SUMMARY:Patronatsfest - 100 Jahre St. Hubertus Kirche
DESCRIPTION:St. Hubertus Ottfingen Hubertusmesse mit Musikverein und Kirchenchor\, Schützenbruderschaft
URL:https://ottfingen.de/event/patronatsfest-100-jahre-st-hubertus-kirche/
LOCATION:Kirche St. Hubertus Ottfingen\, Hubertusstraße 34\, Wenden - Ottfingen\, 57482
CATEGORIES:In Ottfingen
END:VEVENT
END:VCALENDAR