BEGIN:VCALENDAR
VERSION:2.0
PRODID:-//ottfingen.de - ECPv6.15.20//NONSGML v1.0//EN
CALSCALE:GREGORIAN
METHOD:PUBLISH
X-ORIGINAL-URL:https://ottfingen.de
X-WR-CALDESC:Veranstaltungen für ottfingen.de
REFRESH-INTERVAL;VALUE=DURATION:PT1H
X-Robots-Tag:noindex
X-PUBLISHED-TTL:PT1H
BEGIN:VTIMEZONE
TZID:UTC
BEGIN:STANDARD
TZOFFSETFROM:+0000
TZOFFSETTO:+0000
TZNAME:UTC
DTSTART:20250101T000000
END:STANDARD
END:VTIMEZONE
BEGIN:VEVENT
DTSTART;TZID=UTC:20261104T150000
DTEND;TZID=UTC:20261104T190000
DTSTAMP:20260422T093154
CREATED:20260204T154210Z
LAST-MODIFIED:20260309T090511Z
UID:2334-1793804400-1793818800@ottfingen.de
SUMMARY:Krankensegnung und Krankensalbung\, Kaffeetrinken
DESCRIPTION:Krankensegnung / -salbung in der St. Hubertus Kirche\, anschl. im Pfarrheim Kaffee trinken 
URL:https://ottfingen.de/event/krankensegnung-und-krankensalbung-kaffeetrinken/
CATEGORIES:In Ottfingen
END:VEVENT
BEGIN:VEVENT
DTSTART;TZID=UTC:20261104T170000
DTEND;TZID=UTC:20261106T210000
DTSTAMP:20260422T093154
CREATED:20260312T150506Z
LAST-MODIFIED:20260318T072247Z
UID:2347-1793811600-1793998800@ottfingen.de
SUMMARY:Schweineschießen
DESCRIPTION:Das Schweineschießen kann gut als Training für das Dorfpokalschießen am 07.11.2026 genutzt werden.
URL:https://ottfingen.de/event/schweineschiessen-8/
LOCATION:Kellergeschoss Schützenhaus Ottfingen\, Wilhelm-Tell-Straße 24\, 57482 Wenden-Ottfingen\, Deutschland
END:VEVENT
END:VCALENDAR