BEGIN:VCALENDAR
VERSION:2.0
PRODID:-//ottfingen.de - ECPv6.15.20//NONSGML v1.0//EN
CALSCALE:GREGORIAN
METHOD:PUBLISH
X-ORIGINAL-URL:https://ottfingen.de
X-WR-CALDESC:Veranstaltungen für ottfingen.de
REFRESH-INTERVAL;VALUE=DURATION:PT1H
X-Robots-Tag:noindex
X-PUBLISHED-TTL:PT1H
BEGIN:VTIMEZONE
TZID:UTC
BEGIN:STANDARD
TZOFFSETFROM:+0000
TZOFFSETTO:+0000
TZNAME:UTC
DTSTART:20250101T000000
END:STANDARD
END:VTIMEZONE
BEGIN:VEVENT
DTSTART;TZID=UTC:20260927T080000
DTEND;TZID=UTC:20260927T170000
DTSTAMP:20260422T065315
CREATED:20260112T073637Z
LAST-MODIFIED:20260112T073639Z
UID:2289-1790496000-1790528400@ottfingen.de
SUMMARY:Schützenbruderschaft - Kreisschützenfest Elspe
DESCRIPTION:
URL:https://ottfingen.de/event/schuetzenbruderschaft-kreisschuetzenfest-elspe/
CATEGORIES:Gastauftritte
ORGANIZER;CN="Sch%C3%BCtzenbruderschaft Ottfingen 1919 e.V.":MAILTO:vorstand@schuetzenbruderschaft-ottfingen.de
END:VEVENT
BEGIN:VEVENT
DTSTART;TZID=UTC:20260927T120000
DTEND;TZID=UTC:20260927T170000
DTSTAMP:20260422T065315
CREATED:20251118T070451Z
LAST-MODIFIED:20251118T070605Z
UID:2196-1790510400-1790528400@ottfingen.de
SUMMARY:Musikverein Treue Kreisschützenfest Olpe mit Schützenverein Schönau
DESCRIPTION:
URL:https://ottfingen.de/event/musikverein-treue-kreisschuetzenfest-olpe-mit-schuetzenverein-schoenau/
LOCATION:Ümmerich\, Olpe
CATEGORIES:Gastauftritte
END:VEVENT
BEGIN:VEVENT
DTSTART;TZID=UTC:20260927T133000
DTEND;TZID=UTC:20260927T170000
DTSTAMP:20260422T065315
CREATED:20260106T162214Z
LAST-MODIFIED:20260106T162215Z
UID:2249-1790515800-1790528400@ottfingen.de
SUMMARY:Tambourcorps Erntedankzug Friesenhagen
DESCRIPTION:
URL:https://ottfingen.de/event/tambourcorps-erntedankzug-friesenhagen/
CATEGORIES:Gastauftritte
ORGANIZER;CN="Tambourcorps Ottfingen":MAILTO:ansgar.eichert@tambourcorps-ottfingen.de
END:VEVENT
END:VCALENDAR