BEGIN:VCALENDAR
VERSION:2.0
PRODID:-//ottfingen.de - ECPv6.15.20//NONSGML v1.0//EN
CALSCALE:GREGORIAN
METHOD:PUBLISH
X-ORIGINAL-URL:https://ottfingen.de
X-WR-CALDESC:Veranstaltungen für ottfingen.de
REFRESH-INTERVAL;VALUE=DURATION:PT1H
X-Robots-Tag:noindex
X-PUBLISHED-TTL:PT1H
BEGIN:VTIMEZONE
TZID:UTC
BEGIN:STANDARD
TZOFFSETFROM:+0000
TZOFFSETTO:+0000
TZNAME:UTC
DTSTART:20240101T000000
END:STANDARD
END:VTIMEZONE
BEGIN:VEVENT
DTSTART;TZID=UTC:20251102T140000
DTEND;TZID=UTC:20251102T170000
DTSTAMP:20260421T095713
CREATED:20250412T084005Z
LAST-MODIFIED:20250412T084006Z
UID:2019-1762092000-1762102800@ottfingen.de
SUMMARY:Huberti-Markt
DESCRIPTION:
URL:https://ottfingen.de/event/huberti-markt/
LOCATION:Kath. Kita St. Hubertus Ottfingen\, Sandstraße 3\, Wenden\, Germany
END:VEVENT
BEGIN:VEVENT
DTSTART;TZID=UTC:20251102T163000
DTEND;TZID=UTC:20251102T190000
DTSTAMP:20260421T095713
CREATED:20251010T074912Z
LAST-MODIFIED:20251010T074913Z
UID:2048-1762101000-1762110000@ottfingen.de
SUMMARY:Vocal Art Media Vita - Mitten im Leben
DESCRIPTION:Konzert mit dem MGV Liederkranz Altenbach
URL:https://ottfingen.de/event/vocal-art-media-vita-mitten-im-leben/
END:VEVENT
END:VCALENDAR