BEGIN:VCALENDAR
VERSION:2.0
PRODID:-//ottfingen.de - ECPv6.15.20//NONSGML v1.0//EN
CALSCALE:GREGORIAN
METHOD:PUBLISH
X-WR-CALNAME:ottfingen.de
X-ORIGINAL-URL:https://ottfingen.de
X-WR-CALDESC:Veranstaltungen für ottfingen.de
REFRESH-INTERVAL;VALUE=DURATION:PT1H
X-Robots-Tag:noindex
X-PUBLISHED-TTL:PT1H
BEGIN:VTIMEZONE
TZID:UTC
BEGIN:STANDARD
TZOFFSETFROM:+0000
TZOFFSETTO:+0000
TZNAME:UTC
DTSTART:20220101T000000
END:STANDARD
END:VTIMEZONE
BEGIN:VEVENT
DTSTART;TZID=UTC:20230616T080000
DTEND;TZID=UTC:20230618T170000
DTSTAMP:20260421T110122
CREATED:20221117T070204Z
LAST-MODIFIED:20221117T070205Z
UID:881-1686902400-1687107600@ottfingen.de
SUMMARY:Mitwirkung Festzüge Schützenfest Ottfingen
DESCRIPTION:Tambourcorps
URL:https://ottfingen.de/event/mitwirkung-festzuege-schuetzenfest-ottfingen/
ORGANIZER;CN="Sch%C3%BCtzenbruderschaft Ottfingen 1919 e.V.":MAILTO:vorstand@schuetzenbruderschaft-ottfingen.de
END:VEVENT
BEGIN:VEVENT
DTSTART;TZID=UTC:20230617T143000
DTEND;TZID=UTC:20230617T235900
DTSTAMP:20260421T110122
CREATED:20221228T075301Z
LAST-MODIFIED:20230113T072343Z
UID:1036-1687012200-1687046340@ottfingen.de
SUMMARY:Schützenfest Ottfingen
DESCRIPTION:
URL:https://ottfingen.de/event/schuetzenfest-ottfingen-3/
ORGANIZER;CN="Sch%C3%BCtzenbruderschaft Ottfingen 1919 e.V.":MAILTO:vorstand@schuetzenbruderschaft-ottfingen.de
END:VEVENT
END:VCALENDAR