BEGIN:VCALENDAR
VERSION:2.0
PRODID:-//ottfingen.de - ECPv6.15.20//NONSGML v1.0//EN
CALSCALE:GREGORIAN
METHOD:PUBLISH
X-WR-CALNAME:ottfingen.de
X-ORIGINAL-URL:https://ottfingen.de
X-WR-CALDESC:Veranstaltungen für ottfingen.de
REFRESH-INTERVAL;VALUE=DURATION:PT1H
X-Robots-Tag:noindex
X-PUBLISHED-TTL:PT1H
BEGIN:VTIMEZONE
TZID:UTC
BEGIN:STANDARD
TZOFFSETFROM:+0000
TZOFFSETTO:+0000
TZNAME:UTC
DTSTART:20220101T000000
END:STANDARD
END:VTIMEZONE
BEGIN:VEVENT
DTSTART;TZID=UTC:20230604T103000
DTEND;TZID=UTC:20230604T120000
DTSTAMP:20260421T110152
CREATED:20221222T172209Z
LAST-MODIFIED:20221222T172211Z
UID:993-1685874600-1685880000@ottfingen.de
SUMMARY:Mitgliederversammlung Einkaufs- und Versorgungsgenossenschaft Ottfingen eG
DESCRIPTION:Einkaufs- und Versorgungsgenossenschaft Ottfingen eG
URL:https://ottfingen.de/event/mitgliederversammlung-einkaufs-und-versorgungsgenossenschaft-ottfingen-eg/
END:VEVENT
END:VCALENDAR