BEGIN:VCALENDAR
VERSION:2.0
PRODID:-//ottfingen.de - ECPv6.15.20//NONSGML v1.0//EN
CALSCALE:GREGORIAN
METHOD:PUBLISH
X-WR-CALNAME:ottfingen.de
X-ORIGINAL-URL:https://ottfingen.de
X-WR-CALDESC:Veranstaltungen für ottfingen.de
REFRESH-INTERVAL;VALUE=DURATION:PT1H
X-Robots-Tag:noindex
X-PUBLISHED-TTL:PT1H
BEGIN:VTIMEZONE
TZID:UTC
BEGIN:STANDARD
TZOFFSETFROM:+0000
TZOFFSETTO:+0000
TZNAME:UTC
DTSTART:20220101T000000
END:STANDARD
END:VTIMEZONE
BEGIN:VEVENT
DTSTART;TZID=UTC:20230430T080000
DTEND;TZID=UTC:20230430T170000
DTSTAMP:20260421T134901
CREATED:20221117T065912Z
LAST-MODIFIED:20221117T065913Z
UID:877-1682841600-1682874000@ottfingen.de
SUMMARY:Mitwirkung Festzug Schützenfest Elben
DESCRIPTION:
URL:https://ottfingen.de/event/mitwirkung-festzug-schuetzenfest-elben/
ORGANIZER;CN="Tambourcorps Ottfingen":MAILTO:ansgar.eichert@tambourcorps-ottfingen.de
END:VEVENT
BEGIN:VEVENT
DTSTART;TZID=UTC:20230430T190000
DTEND;TZID=UTC:20230430T190000
DTSTAMP:20260421T134901
CREATED:20221227T071737Z
LAST-MODIFIED:20230411T151201Z
UID:1010-1682881200-1682881200@ottfingen.de
SUMMARY:Tanz in den Mai
DESCRIPTION:
URL:https://ottfingen.de/event/tanz-in-den-mai/
END:VEVENT
END:VCALENDAR