BEGIN:VCALENDAR
VERSION:2.0
PRODID:-//ottfingen.de - ECPv6.15.20//NONSGML v1.0//EN
CALSCALE:GREGORIAN
METHOD:PUBLISH
X-ORIGINAL-URL:https://ottfingen.de
X-WR-CALDESC:Veranstaltungen für ottfingen.de
REFRESH-INTERVAL;VALUE=DURATION:PT1H
X-Robots-Tag:noindex
X-PUBLISHED-TTL:PT1H
BEGIN:VTIMEZONE
TZID:UTC
BEGIN:STANDARD
TZOFFSETFROM:+0000
TZOFFSETTO:+0000
TZNAME:UTC
DTSTART:20220101T000000
END:STANDARD
END:VTIMEZONE
BEGIN:VEVENT
DTSTART;TZID=UTC:20230324T193000
DTEND;TZID=UTC:20230324T210000
DTSTAMP:20260421T152013
CREATED:20230125T055648Z
LAST-MODIFIED:20230125T055649Z
UID:1097-1679686200-1679691600@ottfingen.de
SUMMARY:Jahreshauptversammlung Musikverein
DESCRIPTION:Alle Mitglieder sind herzlich eingeladen in den Probenraum am Katharinenweg.
URL:https://ottfingen.de/event/jahreshauptversammlung-musikverein/
END:VEVENT
END:VCALENDAR