BEGIN:VCALENDAR
VERSION:2.0
PRODID:-//ottfingen.de - ECPv6.15.20//NONSGML v1.0//EN
CALSCALE:GREGORIAN
METHOD:PUBLISH
X-ORIGINAL-URL:https://ottfingen.de
X-WR-CALDESC:Veranstaltungen für ottfingen.de
REFRESH-INTERVAL;VALUE=DURATION:PT1H
X-Robots-Tag:noindex
X-PUBLISHED-TTL:PT1H
BEGIN:VTIMEZONE
TZID:UTC
BEGIN:STANDARD
TZOFFSETFROM:+0000
TZOFFSETTO:+0000
TZNAME:UTC
DTSTART:20220101T000000
END:STANDARD
END:VTIMEZONE
BEGIN:VEVENT
DTSTART;TZID=UTC:20230114T090000
DTEND;TZID=UTC:20230114T170000
DTSTAMP:20260421T180352
CREATED:20221228T072223Z
LAST-MODIFIED:20221228T072224Z
UID:1016-1673686800-1673715600@ottfingen.de
SUMMARY:Weihnachtsbaumaktion der Jungschützen
DESCRIPTION:Auch in diesem Jahr wollen die Jungschützen wieder die Weihnachtsbäume gegen einen kleinen Obolus bei Ihnen abholen
URL:https://ottfingen.de/event/weihnachtsbaumaktion-der-jungschuetzen/
ORGANIZER;CN="Sch%C3%BCtzenbruderschaft Ottfingen 1919 e.V.":MAILTO:vorstand@schuetzenbruderschaft-ottfingen.de
END:VEVENT
BEGIN:VEVENT
DTSTART;TZID=UTC:20230114T180000
DTEND;TZID=UTC:20230114T210000
DTSTAMP:20260421T180352
CREATED:20221204T114536Z
LAST-MODIFIED:20221211T081339Z
UID:900-1673719200-1673730000@ottfingen.de
SUMMARY:Jahreshauptversammlung Ottfinger Chöre e.V.
DESCRIPTION:Herzliche Einladung an alle Mitglieder.
URL:https://ottfingen.de/event/jahreshauptversammlung-ottfinger-choere-e-v-2/
LOCATION:Probenraum\, Von-Galen-Straße 12\, Wenden-Ottfingen\, Deutschland
END:VEVENT
END:VCALENDAR