BEGIN:VCALENDAR
VERSION:2.0
PRODID:-//ottfingen.de - ECPv6.15.20//NONSGML v1.0//EN
CALSCALE:GREGORIAN
METHOD:PUBLISH
X-ORIGINAL-URL:https://ottfingen.de
X-WR-CALDESC:Veranstaltungen für ottfingen.de
REFRESH-INTERVAL;VALUE=DURATION:PT1H
X-Robots-Tag:noindex
X-PUBLISHED-TTL:PT1H
BEGIN:VTIMEZONE
TZID:UTC
BEGIN:STANDARD
TZOFFSETFROM:+0000
TZOFFSETTO:+0000
TZNAME:UTC
DTSTART:20210101T000000
END:STANDARD
END:VTIMEZONE
BEGIN:VEVENT
DTSTART;TZID=UTC:20221122T190000
DTEND;TZID=UTC:20221122T220000
DTSTAMP:20260421T204446
CREATED:20221108T122338Z
LAST-MODIFIED:20221108T122339Z
UID:848-1669143600-1669154400@ottfingen.de
SUMMARY:Verbandsversammlung des Wasserbeschaffungsverbandes Ottfingen
DESCRIPTION:Tagesordnung: \n\n\n\n\nBegrüßung und Feststellung der fristgerechten Einberufung derVerbandsversammlung\n\n\n\nVorlage der geprüften Jahresrechnung 2021 sowie Entlastung desVorstandes\n\n\n\nTätigkeitsbericht 2022\n\n\n\nNeuwahl des 1. Vorsitzenden\n\n\n\nVorläufige Jahresrechnung 2022 hier: Kassenistbestand amVersammlungstag\n\n\n\nVorläufige Jahresrechnung 2022 hier: voraussichtlicherKassenistbestand am 31.12.2022\n\n\n\nBaumaßnahmen 2022\n\n\n\nBeitrags- und Gebührensatzung hier: Festsetzung des Wasserpreisesund der Grundgebühren für das Haushaltsjahr 2023 undNeufestsetzung des Anschlussbeitrages.\n\n\n\nBeratung und Beschlussfassung Haushaltsplan 2023\n\n\n\nVerschiedenes\n\n\n\n\nDie Verbandsversammlung findet unter Beachtung der aktuellen Bestimmungen der Corona-Schutzverordnung NRW statt.
URL:https://ottfingen.de/event/verbandsversammlung-des-wasserbeschaffungsverbandes-ottfingen/
LOCATION:Schützenhaus Ottfingen\, Wilhelm-Tell Str. 24\, Wenden - Ottfingen\, 57482
END:VEVENT
END:VCALENDAR