BEGIN:VCALENDAR
VERSION:2.0
PRODID:-//ottfingen.de - ECPv6.15.20//NONSGML v1.0//EN
CALSCALE:GREGORIAN
METHOD:PUBLISH
X-WR-CALNAME:ottfingen.de
X-ORIGINAL-URL:https://ottfingen.de
X-WR-CALDESC:Veranstaltungen für ottfingen.de
REFRESH-INTERVAL;VALUE=DURATION:PT1H
X-Robots-Tag:noindex
X-PUBLISHED-TTL:PT1H
BEGIN:VTIMEZONE
TZID:UTC
BEGIN:STANDARD
TZOFFSETFROM:+0000
TZOFFSETTO:+0000
TZNAME:UTC
DTSTART:20210101T000000
END:STANDARD
END:VTIMEZONE
BEGIN:VEVENT
DTSTART;TZID=UTC:20221113T170000
DTEND;TZID=UTC:20221113T190000
DTSTAMP:20260421T204037
CREATED:20220424T120033Z
LAST-MODIFIED:20220424T120034Z
UID:715-1668358800-1668366000@ottfingen.de
SUMMARY:Martinszug Ottfingen
DESCRIPTION:Musikverein Treue
URL:https://ottfingen.de/event/martinszug-ottfingen/
END:VEVENT
END:VCALENDAR