BEGIN:VCALENDAR
VERSION:2.0
PRODID:-//ottfingen.de - ECPv6.15.20//NONSGML v1.0//EN
CALSCALE:GREGORIAN
METHOD:PUBLISH
X-WR-CALNAME:ottfingen.de
X-ORIGINAL-URL:https://ottfingen.de
X-WR-CALDESC:Veranstaltungen für ottfingen.de
REFRESH-INTERVAL;VALUE=DURATION:PT1H
X-Robots-Tag:noindex
X-PUBLISHED-TTL:PT1H
BEGIN:VTIMEZONE
TZID:UTC
BEGIN:STANDARD
TZOFFSETFROM:+0000
TZOFFSETTO:+0000
TZNAME:UTC
DTSTART:20210101T000000
END:STANDARD
END:VTIMEZONE
BEGIN:VEVENT
DTSTART;TZID=UTC:20220830T080000
DTEND;TZID=UTC:20220830T233000
DTSTAMP:20260421T234236
CREATED:20220816T051810Z
LAST-MODIFIED:20220816T051812Z
UID:809-1661846400-1661902200@ottfingen.de
SUMMARY:kfd Tagesausflug nach Venlo
DESCRIPTION:Wir wollen die wunderschöne Stadt Venlo bei freier Zeiteinteilung ganz intensiv kennenlernen\, bummeln\, shoppen und gemeinsam Abend essen. Die Rückkehr ist für ca. 22 Uhr geplant. Abfahrt wie immer an der Kirche.
URL:https://ottfingen.de/event/kfd-tagesausflug-nach-venlo/
ORGANIZER;CN="kfd Ottfingen":MAILTO:rschmidtott@web.de
END:VEVENT
END:VCALENDAR