BEGIN:VCALENDAR
VERSION:2.0
PRODID:-//ottfingen.de - ECPv6.15.20//NONSGML v1.0//EN
CALSCALE:GREGORIAN
METHOD:PUBLISH
X-ORIGINAL-URL:https://ottfingen.de
X-WR-CALDESC:Veranstaltungen für ottfingen.de
REFRESH-INTERVAL;VALUE=DURATION:PT1H
X-Robots-Tag:noindex
X-PUBLISHED-TTL:PT1H
BEGIN:VTIMEZONE
TZID:UTC
BEGIN:STANDARD
TZOFFSETFROM:+0000
TZOFFSETTO:+0000
TZNAME:UTC
DTSTART:20210101T000000
END:STANDARD
END:VTIMEZONE
BEGIN:VEVENT
DTSTART;TZID=UTC:20220808T060000
DTEND;TZID=UTC:20220808T200000
DTSTAMP:20260422T011413
CREATED:20220424T115614Z
LAST-MODIFIED:20220424T115615Z
UID:709-1659938400-1659988800@ottfingen.de
SUMMARY:Schützenfest Meinerzhagen
DESCRIPTION:Musikverein Treue Festzug und Festmusik
URL:https://ottfingen.de/event/schuetzenfest-meinerzhagen-3/
END:VEVENT
END:VCALENDAR