BEGIN:VCALENDAR
VERSION:2.0
PRODID:-//ottfingen.de - ECPv6.15.20//NONSGML v1.0//EN
CALSCALE:GREGORIAN
METHOD:PUBLISH
X-WR-CALNAME:ottfingen.de
X-ORIGINAL-URL:https://ottfingen.de
X-WR-CALDESC:Veranstaltungen für ottfingen.de
REFRESH-INTERVAL;VALUE=DURATION:PT1H
X-Robots-Tag:noindex
X-PUBLISHED-TTL:PT1H
BEGIN:VTIMEZONE
TZID:UTC
BEGIN:STANDARD
TZOFFSETFROM:+0000
TZOFFSETTO:+0000
TZNAME:UTC
DTSTART:20210101T000000
END:STANDARD
END:VTIMEZONE
BEGIN:VEVENT
DTSTART;TZID=UTC:20220806T120000
DTEND;TZID=UTC:20220806T200000
DTSTAMP:20260422T010925
CREATED:20220424T115046Z
LAST-MODIFIED:20220424T115333Z
UID:702-1659787200-1659816000@ottfingen.de
SUMMARY:Schützenfest Meinerzhagen
DESCRIPTION:Musikverein Treue Festzug und Festmusik
URL:https://ottfingen.de/event/schuetzenfest-meinerzhagen/
END:VEVENT
BEGIN:VEVENT
DTSTART;TZID=UTC:20220806T150000
DTEND;TZID=UTC:20220806T190000
DTSTAMP:20260422T010925
CREATED:20220602T082449Z
LAST-MODIFIED:20220602T082450Z
UID:767-1659798000-1659812400@ottfingen.de
SUMMARY:Schützenfest Hillmicke
DESCRIPTION:Tambourcorps Festmusik / musikalische Mitgestaltung
URL:https://ottfingen.de/event/schuetzenfest-hillmicke/
ORGANIZER;CN="Tambourcorps Ottfingen":MAILTO:ansgar.eichert@tambourcorps-ottfingen.de
END:VEVENT
END:VCALENDAR