BEGIN:VCALENDAR
VERSION:2.0
PRODID:-//ottfingen.de - ECPv6.15.20//NONSGML v1.0//EN
CALSCALE:GREGORIAN
METHOD:PUBLISH
X-ORIGINAL-URL:https://ottfingen.de
X-WR-CALDESC:Veranstaltungen für ottfingen.de
REFRESH-INTERVAL;VALUE=DURATION:PT1H
X-Robots-Tag:noindex
X-PUBLISHED-TTL:PT1H
BEGIN:VTIMEZONE
TZID:UTC
BEGIN:STANDARD
TZOFFSETFROM:+0000
TZOFFSETTO:+0000
TZNAME:UTC
DTSTART:20210101T000000
END:STANDARD
END:VTIMEZONE
BEGIN:VEVENT
DTSTART;TZID=UTC:20220722T170000
DTEND;TZID=UTC:20220723T190000
DTSTAMP:20260422T024437
CREATED:20220422T131458Z
LAST-MODIFIED:20220422T131459Z
UID:650-1658509200-1658602800@ottfingen.de
SUMMARY:Gemeindepokal Turnier - Reserve Mannschaften
DESCRIPTION:Gemeindepokalturnier der Reserve-Mannschaften
URL:https://ottfingen.de/event/gemeindepokal-turnier-reserve-mannschaften/
LOCATION:Sporthalle der Gesamtschule Wenden\, Peter-Dassis-Ring 47\, Wenden\, 57482
END:VEVENT
END:VCALENDAR