BEGIN:VCALENDAR
VERSION:2.0
PRODID:-//ottfingen.de - ECPv6.15.20//NONSGML v1.0//EN
CALSCALE:GREGORIAN
METHOD:PUBLISH
X-ORIGINAL-URL:https://ottfingen.de
X-WR-CALDESC:Veranstaltungen für ottfingen.de
REFRESH-INTERVAL;VALUE=DURATION:PT1H
X-Robots-Tag:noindex
X-PUBLISHED-TTL:PT1H
BEGIN:VTIMEZONE
TZID:UTC
BEGIN:STANDARD
TZOFFSETFROM:+0000
TZOFFSETTO:+0000
TZNAME:UTC
DTSTART:20210101T000000
END:STANDARD
END:VTIMEZONE
BEGIN:VEVENT
DTSTART;TZID=UTC:20220617T150000
DTEND;TZID=UTC:20220619T150000
DTSTAMP:20260422T054053
CREATED:20220410T080154Z
LAST-MODIFIED:20220410T080158Z
UID:611-1655478000-1655650800@ottfingen.de
SUMMARY:Schützenfest Ottfingen
DESCRIPTION:Gemeinsam mit der Schützenbruderschaft Ottfingen freuen wir uns das unser traditionelles Schützenfest wieder stattfinden kann. \n\n\n\nDetails zur Agenda folgen.
URL:https://ottfingen.de/event/schuetzenfest-ottfingen/
LOCATION:Schützenhaus Ottfingen\, Wilhelm-Tell Str. 24\, Wenden - Ottfingen\, 57482
ORGANIZER;CN="Sch%C3%BCtzenbruderschaft Ottfingen 1919 e.V.":MAILTO:vorstand@schuetzenbruderschaft-ottfingen.de
END:VEVENT
END:VCALENDAR