BEGIN:VCALENDAR
VERSION:2.0
PRODID:-//ottfingen.de - ECPv6.15.20//NONSGML v1.0//EN
CALSCALE:GREGORIAN
METHOD:PUBLISH
X-ORIGINAL-URL:https://ottfingen.de
X-WR-CALDESC:Veranstaltungen für ottfingen.de
REFRESH-INTERVAL;VALUE=DURATION:PT1H
X-Robots-Tag:noindex
X-PUBLISHED-TTL:PT1H
BEGIN:VTIMEZONE
TZID:UTC
BEGIN:STANDARD
TZOFFSETFROM:+0000
TZOFFSETTO:+0000
TZNAME:UTC
DTSTART:20210101T000000
END:STANDARD
END:VTIMEZONE
BEGIN:VEVENT
DTSTART;TZID=UTC:20220616T090000
DTEND;TZID=UTC:20220616T160000
DTSTAMP:20260422T041226
CREATED:20220424T112020Z
LAST-MODIFIED:20220424T112953Z
UID:675-1655370000-1655395200@ottfingen.de
SUMMARY:Prozession Fronleichnam
DESCRIPTION:Der Musikverein Treue Ottfingen übernimmt die musikalische Gestaltung der Fronleichnamsprozession. \n\n\n\nIm Anschluss sind alle zum Frühschoppenkonzert zur Einstimmung auf das Schützenfest eingeladen. Das Frühschoppenkonzert findet am Probenraum im Katharinenweg statt.
URL:https://ottfingen.de/event/prozession-fronleichnam/
END:VEVENT
END:VCALENDAR