BEGIN:VCALENDAR
VERSION:2.0
PRODID:-//ottfingen.de - ECPv6.15.20//NONSGML v1.0//EN
CALSCALE:GREGORIAN
METHOD:PUBLISH
X-WR-CALNAME:ottfingen.de
X-ORIGINAL-URL:https://ottfingen.de
X-WR-CALDESC:Veranstaltungen für ottfingen.de
REFRESH-INTERVAL;VALUE=DURATION:PT1H
X-Robots-Tag:noindex
X-PUBLISHED-TTL:PT1H
BEGIN:VTIMEZONE
TZID:UTC
BEGIN:STANDARD
TZOFFSETFROM:+0000
TZOFFSETTO:+0000
TZNAME:UTC
DTSTART:20210101T000000
END:STANDARD
END:VTIMEZONE
BEGIN:VEVENT
DTSTART;TZID=UTC:20220612T090000
DTEND;TZID=UTC:20220612T160000
DTSTAMP:20260422T040819
CREATED:20220424T111356Z
LAST-MODIFIED:20220424T113105Z
UID:673-1655024400-1655049600@ottfingen.de
SUMMARY:Schützenfest Brün
DESCRIPTION:Musikverein Treue Ottfingen Festzug und Festmusik
URL:https://ottfingen.de/event/schuetzenfest-bruen-3/
END:VEVENT
END:VCALENDAR