BEGIN:VCALENDAR
VERSION:2.0
PRODID:-//ottfingen.de - ECPv6.15.20//NONSGML v1.0//EN
CALSCALE:GREGORIAN
METHOD:PUBLISH
X-WR-CALNAME:ottfingen.de
X-ORIGINAL-URL:https://ottfingen.de
X-WR-CALDESC:Veranstaltungen für ottfingen.de
REFRESH-INTERVAL;VALUE=DURATION:PT1H
X-Robots-Tag:noindex
X-PUBLISHED-TTL:PT1H
BEGIN:VTIMEZONE
TZID:UTC
BEGIN:STANDARD
TZOFFSETFROM:+0000
TZOFFSETTO:+0000
TZNAME:UTC
DTSTART:20210101T000000
END:STANDARD
END:VTIMEZONE
BEGIN:VEVENT
DTSTART;TZID=UTC:20220604T143000
DTEND;TZID=UTC:20220604T190000
DTSTAMP:20260422T040725
CREATED:20220424T110820Z
LAST-MODIFIED:20220424T113205Z
UID:665-1654353000-1654369200@ottfingen.de
SUMMARY:Schützenfest Römershagen
DESCRIPTION:Musikverein Treue Ottfingen Festzug
URL:https://ottfingen.de/event/schuetzenfest-roemershagen/
END:VEVENT
BEGIN:VEVENT
DTSTART;TZID=UTC:20220604T150000
DTEND;TZID=UTC:20220604T190000
DTSTAMP:20260422T040725
CREATED:20220602T081858Z
LAST-MODIFIED:20220602T081859Z
UID:757-1654354800-1654369200@ottfingen.de
SUMMARY:Schützenfest Römershagen
DESCRIPTION:Tambourcorps Festmusik / musikalische Mitgestaltung
URL:https://ottfingen.de/event/schuetzenfest-roemershagen-3/
ORGANIZER;CN="Tambourcorps Ottfingen":MAILTO:ansgar.eichert@tambourcorps-ottfingen.de
END:VEVENT
END:VCALENDAR