BEGIN:VCALENDAR
VERSION:2.0
PRODID:-//ottfingen.de - ECPv6.15.20//NONSGML v1.0//EN
CALSCALE:GREGORIAN
METHOD:PUBLISH
X-ORIGINAL-URL:https://ottfingen.de
X-WR-CALDESC:Veranstaltungen für ottfingen.de
REFRESH-INTERVAL;VALUE=DURATION:PT1H
X-Robots-Tag:noindex
X-PUBLISHED-TTL:PT1H
BEGIN:VTIMEZONE
TZID:UTC
BEGIN:STANDARD
TZOFFSETFROM:+0000
TZOFFSETTO:+0000
TZNAME:UTC
DTSTART:20210101T000000
END:STANDARD
END:VTIMEZONE
BEGIN:VEVENT
DTSTART;TZID=UTC:20220525T190000
DTEND;TZID=UTC:20220525T233000
DTSTAMP:20260422T054158
CREATED:20220422T130639Z
LAST-MODIFIED:20220422T130640Z
UID:644-1653505200-1653521400@ottfingen.de
SUMMARY:Siepen im Sunnesching - Open Air
DESCRIPTION:Sei auch du dabei und feier‘ mit den beiden kölschen Kultbands CAT BALLOU und KLÜNGELKÖPP unter freiem Himmel bis in die Nacht! \n\n\n\n\n\nSiepen im Sunnesching – Das sind kölsche Gefühle inmitten des Sauerlands. \n\n\n\nSei auch du dabei und feier‘ mit den beiden kölschen Kultbands CAT BALLOU und KLÜNGELKÖPP unter freiem Himmel bis in die Nacht! Alte Karten aus 2020 behalten ihre Gültigkeit! \n\n\n\nVorverkaufsstellen: \n\n\n\nSalon Hetzel\, OttfingenSalon Hetzel\, RothemühleChic Haarstudio\, OttfingenTankstelle Clemens & Ochel\, Gerlingen
URL:https://ottfingen.de/event/siepen-im-sunnesching-open-air/
LOCATION:Sportplatz Ottfingen\, Thomasstr. / Am Siepen\, Wenden\, 57482
END:VEVENT
END:VCALENDAR