BEGIN:VCALENDAR
VERSION:2.0
PRODID:-//ottfingen.de - ECPv6.15.20//NONSGML v1.0//EN
CALSCALE:GREGORIAN
METHOD:PUBLISH
X-ORIGINAL-URL:https://ottfingen.de
X-WR-CALDESC:Veranstaltungen für ottfingen.de
REFRESH-INTERVAL;VALUE=DURATION:PT1H
X-Robots-Tag:noindex
X-PUBLISHED-TTL:PT1H
BEGIN:VTIMEZONE
TZID:UTC
BEGIN:STANDARD
TZOFFSETFROM:+0000
TZOFFSETTO:+0000
TZNAME:UTC
DTSTART:20210101T000000
END:STANDARD
END:VTIMEZONE
BEGIN:VEVENT
DTSTART;TZID=UTC:20220514T100000
DTEND;TZID=UTC:20220514T170000
DTSTAMP:20260422T054236
CREATED:20220424T110547Z
LAST-MODIFIED:20220424T112843Z
UID:663-1652522400-1652547600@ottfingen.de
SUMMARY:Probentag MVO
DESCRIPTION:Probentag des Musikvereins Treue Ottfingen
URL:https://ottfingen.de/event/probentag-mvo/
END:VEVENT
END:VCALENDAR