BEGIN:VCALENDAR
VERSION:2.0
PRODID:-//ottfingen.de - ECPv6.15.20//NONSGML v1.0//EN
CALSCALE:GREGORIAN
METHOD:PUBLISH
X-WR-CALNAME:ottfingen.de
X-ORIGINAL-URL:https://ottfingen.de
X-WR-CALDESC:Veranstaltungen für ottfingen.de
REFRESH-INTERVAL;VALUE=DURATION:PT1H
X-Robots-Tag:noindex
X-PUBLISHED-TTL:PT1H
BEGIN:VTIMEZONE
TZID:UTC
BEGIN:STANDARD
TZOFFSETFROM:+0000
TZOFFSETTO:+0000
TZNAME:UTC
DTSTART:20210101T000000
END:STANDARD
END:VTIMEZONE
BEGIN:VEVENT
DTSTART;TZID=UTC:20220430T160000
DTEND;TZID=UTC:20220430T233000
DTSTAMP:20260422T070732
CREATED:20220422T135450Z
LAST-MODIFIED:20220422T135514Z
UID:656-1651334400-1651361400@ottfingen.de
SUMMARY:Tanz in den Mai auf dem Siepen und Pokalspiel der Ü32
DESCRIPTION:Anlässlich des Ü32 Pokalspiels\, SV Ottfingen – BW Hillmicke\, Anpfiff 16 Uhr\, möchte der SV Ottfingen nach dem Spiel einen Thekenabend im neuen Clubhaus durchführen. Der SVO hofft auf viele Gäste und freut sich gemeinsam mit euch auf ein schönes Pokalspiel mit anschließenden Thekenabend. \n\n\n\nWährend dem Pokalspiel wird die Imbiss- und Getränkebude geöffnet.
URL:https://ottfingen.de/event/656/
LOCATION:Sportplatz Ottfingen\, Thomasstr. / Am Siepen\, Wenden\, 57482
END:VEVENT
END:VCALENDAR