BEGIN:VCALENDAR
VERSION:2.0
PRODID:-//ottfingen.de - ECPv6.15.20//NONSGML v1.0//EN
CALSCALE:GREGORIAN
METHOD:PUBLISH
X-WR-CALNAME:ottfingen.de
X-ORIGINAL-URL:https://ottfingen.de
X-WR-CALDESC:Veranstaltungen für ottfingen.de
REFRESH-INTERVAL;VALUE=DURATION:PT1H
X-Robots-Tag:noindex
X-PUBLISHED-TTL:PT1H
BEGIN:VTIMEZONE
TZID:UTC
BEGIN:STANDARD
TZOFFSETFROM:+0000
TZOFFSETTO:+0000
TZNAME:UTC
DTSTART:20210101T000000
END:STANDARD
END:VTIMEZONE
BEGIN:VEVENT
DTSTART;TZID=UTC:20220424T100000
DTEND;TZID=UTC:20220424T120000
DTSTAMP:20260422T070728
CREATED:20220422T235219Z
LAST-MODIFIED:20220422T235221Z
UID:634-1650794400-1650801600@ottfingen.de
SUMMARY:Ottfinger Radrunde
DESCRIPTION:Da mittlerweile so mancher Dorfbewohner das Sauerland auf zwei Rädern erkundet kam einigen Ottfingern die Idee einer regelmäßigen gemeinsamen Ausfahrt. Das Format ist ein “Offener Radtreff” – wer Zeit und Lust hat kommt einfach spontan dazu\, es gibt keine Pflicht zu regelmäßiger Teilnahme. Jeder ist willkommen! \n\n\n\nZur Erstausfahrt treffen wir uns am Sonntag\, 24.04.2022 um 10:00 Uhr am Dorfplatz Ottfingen. \n\n\n\nZukünftig erfahrt ihr von neuen Ausfahrten hier auf der Webseite oder in folgender WhatsApp Gruppe: \n\n\n\n\nWhatsApp Gruppe beitreten\n\n\n\n\nSollten alle Teilnehmer Räder mitbringen die Waldwege vertragen (Reifenbreite 30mm aufwärts) fahren wir eine schöne 35km Gravelrunde und sind zum Mittagessen wieder zu Hause. Zukünftig sind je nach Wunsch der Teilnehmer sowohl Rennrad- als auch Gravel-Runden denkbar.
URL:https://ottfingen.de/event/ottfinger-radrunde/
LOCATION:Dorfplatz Ottfingen\, Hubertusstr. 65\, Wenden - Ottfingen\, 57482
END:VEVENT
END:VCALENDAR