BEGIN:VCALENDAR
VERSION:2.0
PRODID:-//ottfingen.de - ECPv6.15.20//NONSGML v1.0//EN
CALSCALE:GREGORIAN
METHOD:PUBLISH
X-ORIGINAL-URL:https://ottfingen.de
X-WR-CALDESC:Veranstaltungen für ottfingen.de
REFRESH-INTERVAL;VALUE=DURATION:PT1H
X-Robots-Tag:noindex
X-PUBLISHED-TTL:PT1H
BEGIN:VTIMEZONE
TZID:UTC
BEGIN:STANDARD
TZOFFSETFROM:+0000
TZOFFSETTO:+0000
TZNAME:UTC
DTSTART:20210101T000000
END:STANDARD
END:VTIMEZONE
BEGIN:VEVENT
DTSTART;TZID=UTC:20220417T190000
DTEND;TZID=UTC:20220417T230000
DTSTAMP:20260422T071134
CREATED:20220405T121422Z
LAST-MODIFIED:20220409T194650Z
UID:512-1650222000-1650236400@ottfingen.de
SUMMARY:Osterfeuer 2022
DESCRIPTION:Die Schützenbruderschaft Ottfingen 1919 e.V. begrüßt alle BürgerInnen zum traditionellen Osterfeuer. \n\n\n\nNach einer kurzen Andacht\, die um 19:00 Uhr in der St. Hubertus Kirche stattfindet\, gehen wir gemeinsam mit den Kommunionkindern\, die die Fackeln tragen\, zum Osterfeuerplatz\, um das Feuer zu entzünden. \n\n\n\n\nHier klicken  für vollständige Einladung und Agenda
URL:https://ottfingen.de/event/osterfeuer-2022/
LOCATION:Kirche St. Hubertus Ottfingen\, Hubertusstraße 34\, Wenden - Ottfingen\, 57482
ORGANIZER;CN="Sch%C3%BCtzenbruderschaft Ottfingen 1919 e.V.":MAILTO:vorstand@schuetzenbruderschaft-ottfingen.de
END:VEVENT
END:VCALENDAR