BEGIN:VCALENDAR
VERSION:2.0
PRODID:-//ottfingen.de - ECPv6.15.20//NONSGML v1.0//EN
CALSCALE:GREGORIAN
METHOD:PUBLISH
X-ORIGINAL-URL:https://ottfingen.de
X-WR-CALDESC:Veranstaltungen für ottfingen.de
REFRESH-INTERVAL;VALUE=DURATION:PT1H
X-Robots-Tag:noindex
X-PUBLISHED-TTL:PT1H
BEGIN:VTIMEZONE
TZID:UTC
BEGIN:STANDARD
TZOFFSETFROM:+0000
TZOFFSETTO:+0000
TZNAME:UTC
DTSTART:20210101T000000
END:STANDARD
END:VTIMEZONE
BEGIN:VEVENT
DTSTART;TZID=UTC:20220406T183000
DTEND;TZID=UTC:20220406T210000
DTSTAMP:20260422T071118
CREATED:20220406T113711Z
LAST-MODIFIED:20220406T113712Z
UID:526-1649269800-1649278800@ottfingen.de
SUMMARY:Jahreshauptversammlung der Waldgenossenschaft Ottfingen II
DESCRIPTION:Die Waldgenossenschaft II aus Ottfingen begrüßt alle Mitglieder zur Jahreshauptversammlung. \n\n\n\n\nHier klicken für vollständige Einladung und Agenda
URL:https://ottfingen.de/event/jahreshauptversammlung-der-waldgenossenschaft-ottfingen-ii/
LOCATION:Pfarrheim Ottfingen\, Hubertusstraße 66\, Wenden - Ottfingen\, 57482
END:VEVENT
END:VCALENDAR